Workbook

Sheet Summary Dashboard

Sheet Income and Revenue
B2: Café Muse Management Company - Income Model | F2: Average monthly revenue per café based on market research
B3: Time Frame: 3 Years | F3: Royalty calculated monthly
B4: Revenue Model: 6% over mothly café revenues with a $10k minimum | F4: Currency: USD
B6: Store | C6: Country | D6: City/Location | E6: Opening Date | F6: Licensing time | G6: Initial One-Time Fee | H6: Total Royalties | I6: 2023 | J6: 2024 | K6: 2025 | L6: 2026 | M6: Check
B7: 1 | C7: Saudi_Arabia | D7: Riyadh | E7: 45047 | F7: =Openings_Table[[#This Row],[Opening Date]]+(365*10) -> 48697 | G7: =IF(COUNTIF($C$7:C7,Openings_Table[[#This Row],[Country]])=1,400000,150000) -> 400000 | H7: =SUMIFS(INDIRECT("Sales_"&C7&"[Total Royalty]"), INDIRECT("Sales_"&C7&"[Period]"), ">=" & $E7) -> 440000 | I7: =SUMIFS(INDIRECT("Sales_"&$C7&"[Total Royalty]"), INDIRECT("Sales_"&$C7&"[Period]"), ">=" & $E7, INDIRECT("Sales_"&$C7&"[Period]"), "<=" & DATE(I$6,12,31)) -> 80000 | J7: =SUMIFS(INDIRECT("Sales_"&$C7&"[Total Royalty]"),INDIRECT("Sales_"&$C7&"[Period]"),">="&$E7,INDIRECT("Sales_"&$C7&"[Period]"),"<="&DATE(J$6,12,31))-SUM($I7:I7) -> 120000 | K7: =SUMIFS(INDIRECT("Sales_"&$C7&"[Total Royalty]"),INDIRECT("Sales_"&$C7&"[Period]"),">="&$E7,INDIRECT("Sales_"&$C7&"[Period]"),"<="&DATE(K$6,12,31))-SUM($I7:J7) -> 120000 | L7: =SUMIFS(INDIRECT("Sales_"&$C7&"[Total Royalty]"),INDIRECT("Sales_"&$C7&"[Period]"),">="&$E7,INDIRECT("Sales_"&$C7&"[Period]"),"<="&DATE(L$6,12,31))-SUM($I7:K7) -> 120000 | M7: =H7-SUM(I7:L7) -> 0
B8: 2 | C8: Saudi_Arabia | D8: Jeddah | E8: 45444 | F8: =Openings_Table[[#This Row],[Opening Date]]+(365*10) -> 49094 | G8: =IF(COUNTIF($C$7:C8,Openings_Table[[#This Row],[Country]])=1,400000,150000) -> 150000 | H8: =SUMIFS(INDIRECT("Sales_"&C8&"[Total Royalty]"), INDIRECT("Sales_"&C8&"[Period]"), ">=" & $E8) -> 310000 | I8: =SUMIFS(INDIRECT("Sales_"&$C8&"[Total Royalty]"), INDIRECT("Sales_"&$C8&"[Period]"), ">=" & $E8, INDIRECT("Sales_"&$C8&"[Period]"), "<=" & DATE(I$6,12,31)) -> 0 | J8: =SUMIFS(INDIRECT("Sales_"&$C8&"[Total Royalty]"),INDIRECT("Sales_"&$C8&"[Period]"),">="&$E8,INDIRECT("Sales_"&$C8&"[Period]"),"<="&DATE(J$6,12,31))-SUM($I8:I8) -> 70000 | K8: =SUMIFS(INDIRECT("Sales_"&$C8&"[Total Royalty]"),INDIRECT("Sales_"&$C8&"[Period]"),">="&$E8,INDIRECT("Sales_"&$C8&"[Period]"),"<="&DATE(K$6,12,31))-SUM($I8:J8) -> 120000 | L8: =SUMIFS(INDIRECT("Sales_"&$C8&"[Total Royalty]"),INDIRECT("Sales_"&$C8&"[Period]"),">="&$E8,INDIRECT("Sales_"&$C8&"[Period]"),"<="&DATE(L$6,12,31))-SUM($I8:K8) -> 120000 | M8: =H8-SUM(I8:L8) -> 0
B9: 3 | C9: Qatar | D9: Doha | E9: 45566 | F9: =Openings_Table[[#This Row],[Opening Date]]+(365*10) -> 49216 | G9: =IF(COUNTIF($C$7:C9,Openings_Table[[#This Row],[Country]])=1,400000,150000) -> 400000 | H9: =SUMIFS(INDIRECT("Sales_"&C9&"[Total Royalty]"), INDIRECT("Sales_"&C9&"[Period]"), ">=" & $E9) -> 278242.43 | I9: =SUMIFS(INDIRECT("Sales_"&$C9&"[Total Royalty]"), INDIRECT("Sales_"&$C9&"[Period]"), ">=" & $E9, INDIRECT("Sales_"&$C9&"[Period]"), "<=" & DATE(I$6,12,31)) -> 0 | J9: =SUMIFS(INDIRECT("Sales_"&$C9&"[Total Royalty]"),INDIRECT("Sales_"&$C9&"[Period]"),">="&$E9,INDIRECT("Sales_"&$C9&"[Period]"),"<="&DATE(J$6,12,31))-SUM($I9:I9) -> 30752.121 | K9: =SUMIFS(INDIRECT("Sales_"&$C9&"[Total Royalty]"),INDIRECT("Sales_"&$C9&"[Period]"),">="&$E9,INDIRECT("Sales_"&$C9&"[Period]"),"<="&DATE(K$6,12,31))-SUM($I9:J9) -> 122438.32 | L9: =SUMIFS(INDIRECT("Sales_"&$C9&"[Total Royalty]"),INDIRECT("Sales_"&$C9&"[Period]"),">="&$E9,INDIRECT("Sales_"&$C9&"[Period]"),"<="&DATE(L$6,12,31))-SUM($I9:K9) -> 125051.98 | M9: =H9-SUM(I9:L9) -> 0
B10: 4 | C10: UAE | D10: Dubai | E10: 45597 | F10: =Openings_Table[[#This Row],[Opening Date]]+(365*10) -> 49247 | G10: =IF(COUNTIF($C$7:C10,Openings_Table[[#This Row],[Country]])=1,400000,150000) -> 400000 | H10: =SUMIFS(INDIRECT("Sales_"&C10&"[Total Royalty]"), INDIRECT("Sales_"&C10&"[Period]"), ">=" & $E10) -> 275441.84 | I10: =SUMIFS(INDIRECT("Sales_"&$C10&"[Total Royalty]"), INDIRECT("Sales_"&$C10&"[Period]"), ">=" & $E10, INDIRECT("Sales_"&$C10&"[Period]"), "<=" & DATE(I$6,12,31)) -> 0 | J10: =SUMIFS(INDIRECT("Sales_"&$C10&"[Total Royalty]"),INDIRECT("Sales_"&$C10&"[Period]"),">="&$E10,INDIRECT("Sales_"&$C10&"[Period]"),"<="&DATE(J$6,12,31))-SUM($I10:I10) -> 22120.655 | K10: =SUMIFS(INDIRECT("Sales_"&$C10&"[Total Royalty]"),INDIRECT("Sales_"&$C10&"[Period]"),">="&$E10,INDIRECT("Sales_"&$C10&"[Period]"),"<="&DATE(K$6,12,31))-SUM($I10:J10) -> 125034.72 | L10: =SUMIFS(INDIRECT("Sales_"&$C10&"[Total Royalty]"),INDIRECT("Sales_"&$C10&"[Period]"),">="&$E10,INDIRECT("Sales_"&$C10&"[Period]"),"<="&DATE(L$6,12,31))-SUM($I10:K10) -> 128286.46 | M10: =H10-SUM(I10:L10) -> 0
B11: 5 | C11: UAE | D11: Abu Dhabi | E11: 45717 | F11: =Openings_Table[[#This Row],[Opening Date]]+(365*10) -> 49367 | G11: =IF(COUNTIF($C$7:C11,Openings_Table[[#This Row],[Country]])=1,400000,150000) -> 150000 | H11: =SUMIFS(INDIRECT("Sales_"&C11&"[Total Royalty]"), INDIRECT("Sales_"&C11&"[Period]"), ">=" & $E11) -> 231952.63 | I11: =SUMIFS(INDIRECT("Sales_"&$C11&"[Total Royalty]"), INDIRECT("Sales_"&$C11&"[Period]"), ">=" & $E11, INDIRECT("Sales_"&$C11&"[Period]"), "<=" & DATE(I$6,12,31)) -> 0 | J11: =SUMIFS(INDIRECT("Sales_"&$C11&"[Total Royalty]"),INDIRECT("Sales_"&$C11&"[Period]"),">="&$E11,INDIRECT("Sales_"&$C11&"[Period]"),"<="&DATE(J$6,12,31))-SUM($I11:I11) -> 0 | K11: =SUMIFS(INDIRECT("Sales_"&$C11&"[Total Royalty]"),INDIRECT("Sales_"&$C11&"[Period]"),">="&$E11,INDIRECT("Sales_"&$C11&"[Period]"),"<="&DATE(K$6,12,31))-SUM($I11:J11) -> 103666.17 | L11: =SUMIFS(INDIRECT("Sales_"&$C11&"[Total Royalty]"),INDIRECT("Sales_"&$C11&"[Period]"),">="&$E11,INDIRECT("Sales_"&$C11&"[Period]"),"<="&DATE(L$6,12,31))-SUM($I11:K11) -> 128286.46 | M11: =H11-SUM(I11:L11) -> 0
B12: 6 | C12: UAE | D12: DXB Airport | E12: 45778 | F12: =Openings_Table[[#This Row],[Opening Date]]+(365*10) -> 49428 | G12: =IF(COUNTIF($C$7:C12,Openings_Table[[#This Row],[Country]])=1,400000,150000) -> 150000 | H12: =SUMIFS(INDIRECT("Sales_"&C12&"[Total Royalty]"), INDIRECT("Sales_"&C12&"[Period]"), ">=" & $E12) -> 211732.89 | I12: =SUMIFS(INDIRECT("Sales_"&$C12&"[Total Royalty]"), INDIRECT("Sales_"&$C12&"[Period]"), ">=" & $E12, INDIRECT("Sales_"&$C12&"[Period]"), "<=" & DATE(I$6,12,31)) -> 0 | J12: =SUMIFS(INDIRECT("Sales_"&$C12&"[Total Royalty]"),INDIRECT("Sales_"&$C12&"[Period]"),">="&$E12,INDIRECT("Sales_"&$C12&"[Period]"),"<="&DATE(J$6,12,31))-SUM($I12:I12) -> 0 | K12: =SUMIFS(INDIRECT("Sales_"&$C12&"[Total Royalty]"),INDIRECT("Sales_"&$C12&"[Period]"),">="&$E12,INDIRECT("Sales_"&$C12&"[Period]"),"<="&DATE(K$6,12,31))-SUM($I12:J12) -> 83446.43 | L12: =SUMIFS(INDIRECT("Sales_"&$C12&"[Total Royalty]"),INDIRECT("Sales_"&$C12&"[Period]"),">="&$E12,INDIRECT("Sales_"&$C12&"[Period]"),"<="&DATE(L$6,12,31))-SUM($I12:K12) -> 128286.46 | M12: =H12-SUM(I12:L12) -> 0
B13: 7 | C13: Kuwait | D13: Kuwait City | E13: 45870 | F13: =Openings_Table[[#This Row],[Opening Date]]+(365*10) -> 49520 | G13: =IF(COUNTIF($C$7:C13,Openings_Table[[#This Row],[Country]])=1,400000,150000) -> 400000 | H13: =SUMIFS(INDIRECT("Sales_"&C13&"[Total Royalty]"), INDIRECT("Sales_"&C13&"[Period]"), ">=" & $E13) -> 172958.54 | I13: =SUMIFS(INDIRECT("Sales_"&$C13&"[Total Royalty]"), INDIRECT("Sales_"&$C13&"[Period]"), ">=" & $E13, INDIRECT("Sales_"&$C13&"[Period]"), "<=" & DATE(I$6,12,31)) -> 0 | J13: =SUMIFS(INDIRECT("Sales_"&$C13&"[Total Royalty]"),INDIRECT("Sales_"&$C13&"[Period]"),">="&$E13,INDIRECT("Sales_"&$C13&"[Period]"),"<="&DATE(J$6,12,31))-SUM($I13:I13) -> 0 | K13: =SUMIFS(INDIRECT("Sales_"&$C13&"[Total Royalty]"),INDIRECT("Sales_"&$C13&"[Period]"),">="&$E13,INDIRECT("Sales_"&$C13&"[Period]"),"<="&DATE(K$6,12,31))-SUM($I13:J13) -> 50508.25 | L13: =SUMIFS(INDIRECT("Sales_"&$C13&"[Total Royalty]"),INDIRECT("Sales_"&$C13&"[Period]"),">="&$E13,INDIRECT("Sales_"&$C13&"[Period]"),"<="&DATE(L$6,12,31))-SUM($I13:K13) -> 122450.29 | M13: =H13-SUM(I13:L13) -> 0
B14: 8 | C14: Turkey | D14: Istanbul | E14: 45992 | F14: =Openings_Table[[#This Row],[Opening Date]]+(365*10) -> 49642 | G14: =IF(COUNTIF($C$7:C14,Openings_Table[[#This Row],[Country]])=1,400000,150000) -> 400000 | H14: =SUMIFS(INDIRECT("Sales_"&C14&"[Total Royalty]"), INDIRECT("Sales_"&C14&"[Period]"), ">=" & $E14) -> 130000 | I14: =SUMIFS(INDIRECT("Sales_"&$C14&"[Total Royalty]"), INDIRECT("Sales_"&$C14&"[Period]"), ">=" & $E14, INDIRECT("Sales_"&$C14&"[Period]"), "<=" & DATE(I$6,12,31)) -> 0 | J14: =SUMIFS(INDIRECT("Sales_"&$C14&"[Total Royalty]"),INDIRECT("Sales_"&$C14&"[Period]"),">="&$E14,INDIRECT("Sales_"&$C14&"[Period]"),"<="&DATE(J$6,12,31))-SUM($I14:I14) -> 0 | K14: =SUMIFS(INDIRECT("Sales_"&$C14&"[Total Royalty]"),INDIRECT("Sales_"&$C14&"[Period]"),">="&$E14,INDIRECT("Sales_"&$C14&"[Period]"),"<="&DATE(K$6,12,31))-SUM($I14:J14) -> 10000 | L14: =SUMIFS(INDIRECT("Sales_"&$C14&"[Total Royalty]"),INDIRECT("Sales_"&$C14&"[Period]"),">="&$E14,INDIRECT("Sales_"&$C14&"[Period]"),"<="&DATE(L$6,12,31))-SUM($I14:K14) -> 120000 | M14: =H14-SUM(I14:L14) -> 0
B15: 9 | C15: Morocco | D15: Marrakech | E15: 46082 | F15: =Openings_Table[[#This Row],[Opening Date]]+(365*10) -> 49732 | G15: =IF(COUNTIF($C$7:C15,Openings_Table[[#This Row],[Country]])=1,400000,150000) -> 400000 | H15: =SUMIFS(INDIRECT("Sales_"&C15&"[Total Royalty]"), INDIRECT("Sales_"&C15&"[Period]"), ">=" & $E15) -> 100000 | I15: =SUMIFS(INDIRECT("Sales_"&$C15&"[Total Royalty]"), INDIRECT("Sales_"&$C15&"[Period]"), ">=" & $E15, INDIRECT("Sales_"&$C15&"[Period]"), "<=" & DATE(I$6,12,31)) -> 0 | J15: =SUMIFS(INDIRECT("Sales_"&$C15&"[Total Royalty]"),INDIRECT("Sales_"&$C15&"[Period]"),">="&$E15,INDIRECT("Sales_"&$C15&"[Period]"),"<="&DATE(J$6,12,31))-SUM($I15:I15) -> 0 | K15: =SUMIFS(INDIRECT("Sales_"&$C15&"[Total Royalty]"),INDIRECT("Sales_"&$C15&"[Period]"),">="&$E15,INDIRECT("Sales_"&$C15&"[Period]"),"<="&DATE(K$6,12,31))-SUM($I15:J15) -> 0 | L15: =SUMIFS(INDIRECT("Sales_"&$C15&"[Total Royalty]"),INDIRECT("Sales_"&$C15&"[Period]"),">="&$E15,INDIRECT("Sales_"&$C15&"[Period]"),"<="&DATE(L$6,12,31))-SUM($I15:K15) -> 100000 | M15: =H15-SUM(I15:L15) -> 0
B16: 10 | C16: Egypt | D16: Cairo | E16: 46174 | F16: =Openings_Table[[#This Row],[Opening Date]]+(365*10) -> 49824 | G16: =IF(COUNTIF($C$7:C16,Openings_Table[[#This Row],[Country]])=1,400000,150000) -> 400000 | H16: =SUMIFS(INDIRECT("Sales_"&C16&"[Total Royalty]"), INDIRECT("Sales_"&C16&"[Period]"), ">=" & $E16) -> 70399.255 | I16: =SUMIFS(INDIRECT("Sales_"&$C16&"[Total Royalty]"), INDIRECT("Sales_"&$C16&"[Period]"), ">=" & $E16, INDIRECT("Sales_"&$C16&"[Period]"), "<=" & DATE(I$6,12,31)) -> 0 | J16: =SUMIFS(INDIRECT("Sales_"&$C16&"[Total Royalty]"),INDIRECT("Sales_"&$C16&"[Period]"),">="&$E16,INDIRECT("Sales_"&$C16&"[Period]"),"<="&DATE(J$6,12,31))-SUM($I16:I16) -> 0 | K16: =SUMIFS(INDIRECT("Sales_"&$C16&"[Total Royalty]"),INDIRECT("Sales_"&$C16&"[Period]"),">="&$E16,INDIRECT("Sales_"&$C16&"[Period]"),"<="&DATE(K$6,12,31))-SUM($I16:J16) -> 0 | L16: =SUMIFS(INDIRECT("Sales_"&$C16&"[Total Royalty]"),INDIRECT("Sales_"&$C16&"[Period]"),">="&$E16,INDIRECT("Sales_"&$C16&"[Period]"),"<="&DATE(L$6,12,31))-SUM($I16:K16) -> 70399.255 | M16: =H16-SUM(I16:L16) -> 0
G18: =SUM(G7:G16) -> 3250000 | H18: =SUM(H7:H16) -> 2220727.6 | I18: =SUM(I7:I16) -> 80000 | J18: =SUM(J7:J16) -> 242872.78 | K18: =SUM(K7:K16) -> 735093.9 | L18: =SUM(L7:L16) -> 1162760.9 | M18: =H18-SUM(I18:L18) -> 0
C21: EBITDA Multiple | D21: Business Valuation year 3 | E21: 20% Equity | F21: Capital to raise with 25% IRR | G21: IRR with desired capital
C22: 6 | D22: =C22*'Financials Short'!$D$11+('Financials Short'!$D$29-'Financials Short'!$D$34) -> 6561938.8 | E22: =D22*20% -> 1312387.8 | F22: =E22/(1+25%)^$D$27 -> 671942.54 | G22: =(E22/$C$27)^(1/$D$27)-1 -> 0.094848575
C23: 8 | D23: =C23*'Financials Short'!$D$11+('Financials Short'!$D$29-'Financials Short'!$D$34) -> 8321216.9 | E23: =D23*20% -> 1664243.4 | F23: =E23/(1+25%)^$D$27 -> 852092.61 | G23: =(E23/$C$27)^(1/$D$27)-1 -> 0.1850562
C24: 10 | D24: =C24*'Financials Short'!$D$11+('Financials Short'!$D$29-'Financials Short'!$D$34) -> 10080495 | E24: =D24*20% -> 2016099 | F24: =E24/(1+25%)^$D$27 -> 1032242.7 | G24: =(E24/$C$27)^(1/$D$27)-1 -> 0.26329259
C26: Capital to raise | D26: Nº of years
C27: 1000000 | D27: 3

Sheet Financials Short
A2: P&L
A3: Revenue | B3: 45657 | C3: 46022 | D3: 46387
A4: Deferred Revenue Recognition | B4: =SUM('Financial Statements'!G20:R26) -> 65416.667 | C4: =SUM('Financial Statements'!S20:AD26) -> 177500 | D4: =SUM('Financial Statements'!AE20:AP26) -> 301666.67
A5: Revenue from Shops | B5: =SUM('Financial Statements'!G30:R36) -> 242872.78 | C5: =SUM('Financial Statements'!S30:AD36) -> 735093.9 | D5: =SUM('Financial Statements'!AE30:AP36) -> 1162760.9
A6: Total Revenue | B6: =SUM(B4:B5) -> 308289.44 | C6: =SUM(C4:C5) -> 912593.9 | D6: =SUM(D4:D5) -> 1464427.6
A8: Total COGS | B8: =SUM('Financial Statements'!G49:R49) -> 60000 | C8: =SUM('Financial Statements'!S49:AD49) -> 110000 | D8: =SUM('Financial Statements'!AE49:AP49) -> 147000
A9: Total Operating Expenses | B9: =SUM('Financial Statements'!G60:R60) -> 281165.79 | C9: =SUM('Financial Statements'!S60:AD60) -> 365251.88 | D9: =SUM('Financial Statements'!AE60:AP60) -> 437788.55
A11: EBITDA | B11: =B6-SUM(B8:B9) -> -32876.347 | C11: =C6-SUM(C8:C9) -> 437342.02 | D11: =D6-SUM(D8:D9) -> 879639.02
A12: EBITDA margin | B12: =B11/B6 -> -0.10664117 | C12: =C11/C6 -> 0.47922961 | D12: =D11/D6 -> 0.6006709
A14: CASHFLOW
B15: 45657 | C15: 46022 | D15: 46387
A16: Cash balance Satarting | B16: ='Financial Statements'!G67 -> 400000 | C16: =B21 -> 1251707 | D16: =C21 -> 2611549
A18: Net cashflow from operating activities | B18: =SUM('Financial Statements'!G69:R69) -> -98293.014 | C18: =SUM('Financial Statements'!S69:AD69) -> 259842.02 | D18: =SUM('Financial Statements'!AE69:AP69) -> 577972.35
A19: Cash coming from New Oppenings | B19: =SUM('Financial Statements'!G70:R70) -> 950000 | C19: =SUM('Financial Statements'!S70:AD70) -> 1100000 | D19: =SUM('Financial Statements'!AE70:AP70) -> 800000
A21: Cash Balance Ending | B21: =B16+SUM(B18:B19) -> 1251707 | C21: =C16+SUM(C18:C19) -> 2611549 | D21: =D16+SUM(D18:D19) -> 3989521.4
A23: BALANCE SHEET
B24: 45657 | C24: 46022 | D24: 46387
A25: ASSETS
A26: FIXED ASSETS
A27: IP License | B27: ='Financial Statements'!R79 -> 500000 | C27: ='Financial Statements'!AD79 -> 500000 | D27: ='Financial Statements'!AP79 -> 500000
A28: CURRENT ASSETS
A29: Cash | B29: ='Financial Statements'!R84 -> 1251707 | C29: ='Financial Statements'!AD84 -> 2611549 | D29: ='Financial Statements'!AP84 -> 3989521.4
A31: TOTAL ASSETS | B31: ='Financial Statements'!R88 -> 1751707 | C31: ='Financial Statements'!AD88 -> 3111549 | D31: ='Financial Statements'!AP88 -> 4489521.4
A33: LIABILITIES
A34: Credit Deferred Revenue | B34: ='Financial Statements'!R91 -> 1284583.3 | C34: ='Financial Statements'!AD91 -> 2207083.3 | D34: ='Financial Statements'!AP91 -> 2705416.7
A35: TOTAL LIABILITIES | B35: ='Financial Statements'!R93 -> 1284583.3 | C35: ='Financial Statements'!AD93 -> 2207083.3 | D35: ='Financial Statements'!AP93 -> 2705416.7
A37: EQUITY
A38: Qwner's share capital | B38: ='Financial Statements'!R96 -> 500000 | C38: ='Financial Statements'!AD96 -> 500000 | D38: ='Financial Statements'!AP96 -> 500000
A39: Profit and Loss Account | B39: =B11 -> -32876.347 | C39: =C11 -> 437342.02 | D39: =D11 -> 879639.02
A40: Prior Periods' Retained Earnings | C40: =B39 -> -32876.347 | D40: =C39+C40 -> 404465.67
A41: TOTAL EQUITY | B41: =SUM(B38:B40) -> 467123.65 | C41: =SUM(C38:C40) -> 904465.67 | D41: =SUM(D38:D40) -> 1784104.7
A43: TOTAL EQUITY & LIABILITIES | B43: =SUM(B35,B41) -> 1751707 | C43: =SUM(C35,C41) -> 3111549 | D43: =SUM(D35,D41) -> 4489521.4

Sheet Country Sales & Assumptions
G1: Table: Economic and F&B Sector Growth (Estimates)
A2: Saudi Arabia (Baseline: 100%) | C2: Seasonality Calendar for Gulf Countries | G2: Country | H2: GDP Growth (2018-2023) | I2: GDP Projection (2023-28) | J2: F&B Growth 2018-2023 | K2: F&B Growth 2023-28
A3: Economic Profile: Saudi Arabia has a large population and a growing economy, but consumer spending patterns can be conservative due to cultural factors. | C3: Month | D3: % Sales | E3: Comments on Seasonality | G3: Saudi Arabia | H3: 0.0283 | I3: 0.035 | J3: 0.06 | K3: 0.05
A4: Market Size: The size of the market in Riyadh might be larger compared to major cities in Qatar and UAE, impacting sales. | C4: January | D4: 1.2 | E4: Cooler weather, post-holiday tourism | G4: Qatar | H4: 0.0242 | I4: 0.03 | J4: 0.07 | K4: 0.06
C5: February | D5: 1.1 | E5: Cool weather, regular tourist activity | G5: UAE | H5: 0.0326 | I5: 0.025 | J5: 0.05 | K5: 0.05
C6: March | D6: 1.1 | E6: End of cool season, local tourism before Ramadan | G6: Kuwait | H6: 0.005025111 | I6: 0.025 | J6: 0.075 | K6: 0.085
A7: Qatar | C7: April | D7: 0.9 | E7: Possible impact of Ramadan, evening sales may increase | G7: Turkey | H7: 0.045245768 | I7: 0.042 | J7: 0.049 | K7: 0.0585
A8: Economic Profile: Qatar has a high GDP per capita, indicating a potentially higher consumer spending power. | C8: May | D8: 0.8 | E8: End of Ramadan, Eid celebrations, fluctuating patterns | G8: Morocco | H8: 0.015558348 | I8: 0.032 | J8: 0.048 | K8: 0.0579
A9: Market Size: The population is smaller than Saudi Arabia, which could limit the total market size. | C9: June | D9: 0.75 | E9: Start of extreme heat, likely dip in day-time foot traffic | G9: Egypt | H9: 0.0474 | I9: 0.04 | J9: 0.1208 | K9: 0.148
A10: Consumer Behavior: Qatar has a significant expatriate community, which might influence café culture and spending habits. | C10: July | D10: 0.7 | E10: Peak of hot season, lowest foot traffic
A11: Estimated % for Qatar: 120-130% | C11: August | D11: 0.75 | E11: Continuation of extreme heat, slight recovery due to vacations
A12: Rationale: Higher GDP per capita and potential for higher average spend per customer, offset by a smaller overall market size. | C12: September | D12: 1 | E12: Start of school season, moderate climate
C13: October | D13: 1.1 | E13: Cooling down, start of peak season for tourism | H13: Baseline % | I13: Year 0 | J13: Year 1 | K13: Year 2 | L13: Year 3
C14: November | D14: 1.2 | E14: Pleasant climate, high tourist activity | G14: Saudi Arabia | H14: 1 | I14: 104036 | J14: =I14*(1+VLOOKUP($G14,$G$1:$K$9,5,0)) -> 109237.8 | K14: =J14*(1+VLOOKUP($G14,$G$1:$K$9,5,0)) -> 114699.69 | L14: =K14*(1+VLOOKUP($G14,$G$1:$K$9,5,0)) -> 120434.67
A15: UAE (particularly Dubai and Abu Dhabi) | C15: December | D15: 1.3 | E15: Year-end holidays, peak tourism and spending | G15: Qatar | H15: 1.25 | I15: =$I$14*H15 -> 130045 | J15: =I15*(1+VLOOKUP($G15,$G$1:$K$9,5,0)) -> 137847.7 | K15: =J15*(1+VLOOKUP($G15,$G$1:$K$9,5,0)) -> 146118.56 | L15: =K15*(1+VLOOKUP($G15,$G$1:$K$9,5,0)) -> 154885.68
A16: Economic Profile: Similar to Qatar, UAE has a high GDP per capita. Dubai and Abu Dhabi are major tourist and expatriate hubs. | G16: UAE | H16: 1.35 | I16: =$I$14*H16 -> 140448.6 | J16: =I16*(1+VLOOKUP($G16,$G$1:$K$9,5,0)) -> 147471.03 | K16: =J16*(1+VLOOKUP($G16,$G$1:$K$9,5,0)) -> 154844.58 | L16: =K16*(1+VLOOKUP($G16,$G$1:$K$9,5,0)) -> 162586.81
A17: Market Size: Larger than Qatar, with a diverse international community and a strong café culture. | C17: Seasonality Calendar for Mediterranean sea Countries | G17: Kuwait | H17: 1.1 | I17: =$I$14*H17 -> 114439.6 | J17: =I17*(1+VLOOKUP($G17,$G$1:$K$9,5,0)) -> 124166.97 | K17: =J17*(1+VLOOKUP($G17,$G$1:$K$9,5,0)) -> 134721.16 | L17: =K17*(1+VLOOKUP($G17,$G$1:$K$9,5,0)) -> 146172.46
A18: Consumer Behavior: High levels of tourism and an international population could lead to diverse and potentially higher spending in cafés. | C18: Month | D18: % Sales | E18: Comments on Seasonality | G18: Turkey | H18: 1.05 | I18: =$I$14*H18 -> 109237.8 | J18: =I18*(1+VLOOKUP($G18,$G$1:$K$9,5,0)) -> 115628.21 | K18: =J18*(1+VLOOKUP($G18,$G$1:$K$9,5,0)) -> 122392.46 | L18: =K18*(1+VLOOKUP($G18,$G$1:$K$9,5,0)) -> 129552.42
A19: Estimated % for UAE: 135% | C19: January | D19: 1.1 | E19: Cooler weather, but less extreme; steady tourist activity | G19: Morocco | H19: 0.95 | I19: =$I$14*H19 -> 98834.2 | J19: =I19*(1+VLOOKUP($G19,$G$1:$K$9,5,0)) -> 104556.7 | K19: =J19*(1+VLOOKUP($G19,$G$1:$K$9,5,0)) -> 110610.53 | L19: =K19*(1+VLOOKUP($G19,$G$1:$K$9,5,0)) -> 117014.88
A20: Rationale: Larger market size with significant tourism and expatriate presence, contributing to potentially higher sales, despite competition. | C20: February | D20: 1 | E20: Cool weather continues; moderate tourist activity | G20: Egypt | H20: 0.9 | I20: =$I$14*H20 -> 93632.4 | J20: =I20*(1+VLOOKUP($G20,$G$1:$K$9,5,0)) -> 107490 | K20: =J20*(1+VLOOKUP($G20,$G$1:$K$9,5,0)) -> 123398.51 | L20: =K20*(1+VLOOKUP($G20,$G$1:$K$9,5,0)) -> 141661.49
C21: March | D21: 1.1 | E21: Beginning of spring; increase in local and regional tourism
C22: April | D22: 1.2 | E22: Spring season; peak in tourist activity before hot months
A23: Kuwait | C23: May | D23: 1.1 | E23: Pleasant weather; high tourist activity continues
A24: Economic Profile: Kuwait has a high GDP per capita, largely due to its oil wealth. The economy is less diversified compared to UAE or Qatar. | C24: June | D24: 1 | E24: Beginning of warm season; start of domestic tourism
A25: Market Size: Kuwait has a smaller population compared to Saudi Arabia, which may limit market size. However, it has a substantial middle and upper-class population. | C25: July | D25: 0.9 | E25: Hot weather; some decline in day-time tourism
A26: Consumer Behavior: Kuwaitis enjoy a relatively high standard of living. There is a significant presence of Western-style consumerism. | C26: August | D26: 0.9 | E26: Peak of summer; holiday season for locals and Europeans
A27: Estimated % for Kuwait: 110-115% | C27: September | D27: 1.1 | E27: End of hot season; revival of tourism
A28: Rationale: High GDP per capita and a strong consumer culture are positives, but the smaller population size limits total market potential. | C28: October | D28: 1.2 | E28: Pleasant autumn weather; high tourist activity
C29: November | D29: 1 | E29: Cooler weather; moderate tourist activity
C30: December | D30: 1.2 | E30: Holiday season; increase in end-of-year tourism and spending
A35: Turkey
A36: Economic Profile: Turkey has a larger population and a diverse economy. However, the GDP per capita is lower than the Gulf countries.
A37: Market Size: Large population with significant urban centers like Istanbul and Ankara.
A38: Consumer Behavior: Turkish people have a rich café culture. The country also attracts many tourists, especially in cities like Istanbul.
A39: Estimated % for Turkey: 105-110%
A40: Rationale: The large population and established café culture are positives, but lower GDP per capita might mean lower average spending per customer.
A43: Morocco
A44: Economic Profile: Morocco has a growing economy but lower GDP per capita compared to Gulf countries. Tourism is a significant sector.
A45: Market Size: A large population, but overall spending power is lower.
A46: Consumer Behavior: There is a traditional café culture, and the country sees a good number of tourists, especially in cities like Marrakech and Casablanca.
...

Sheet Financial Statements
B5: Draft Financial Set
B6: 36-Month Forecast Model
G7: =COUNTA($G$8:G8) -> 1 | H7: =COUNTA($G$8:H8) -> 2 | I7: =COUNTA($G$8:I8) -> 3 | J7: =COUNTA($G$8:J8) -> 4 | K7: =COUNTA($G$8:K8) -> 5 | L7: =COUNTA($G$8:L8) -> 6 | M7: =COUNTA($G$8:M8) -> 7 | N7: =COUNTA($G$8:N8) -> 8 | ... AP7: =COUNTA($G$8:AP8) -> 36
B8: Assumptions | F8: Month | G8: 45322 | H8: 45351 | I8: 45382 | J8: 45412 | K8: 45443 | L8: 45473 | M8: 45504 | N8: 45535 | O8: 45565 | P8: 45596 | Q8: 45626 | R8: 45657 | S8: 45688 | T8: 45716 | U8: 45747 | V8: 45777 | W8: 45808 | X8: 45838 | Y8: 45869 | Z8: 45900 | AA8: 45930 | AB8: 45961 | AC8: 45991 | AD8: 46022 | AE8: 46053 | AF8: 46081 | AG8: 46112 | AH8: 46142 | AI8: 46173 | AJ8: 46203 | AK8: 46234 | AL8: 46265 | AM8: 46295 | AN8: 46326 | AO8: 46356 | AP8: 46387
D9: Open Shops
F10: N* of Saudi Arabia Shops | G10: =COUNTIFS(Openings_Table[[Country]:[Country]],"Saudi_Arabia",Openings_Table[[Opening Date]:[Opening Date]],"<"&G$8) -> 1 | H10: =COUNTIFS(Openings_Table[[Country]:[Country]],"Saudi_Arabia",Openings_Table[[Opening Date]:[Opening Date]],"<"&H$8) -> 1 | I10: =COUNTIFS(Openings_Table[[Country]:[Country]],"Saudi_Arabia",Openings_Table[[Opening Date]:[Opening Date]],"<"&I$8) -> 1 | J10: =COUNTIFS(Openings_Table[[Country]:[Country]],"Saudi_Arabia",Openings_Table[[Opening Date]:[Opening Date]],"<"&J$8) -> 1 | K10: =COUNTIFS(Openings_Table[[Country]:[Country]],"Saudi_Arabia",Openings_Table[[Opening Date]:[Opening Date]],"<"&K$8) -> 1 | L10: =COUNTIFS(Openings_Table[[Country]:[Country]],"Saudi_Arabia",Openings_Table[[Opening Date]:[Opening Date]],"<"&L$8) -> 2 | M10: =COUNTIFS(Openings_Table[[Country]:[Country]],"Saudi_Arabia",Openings_Table[[Opening Date]:[Opening Date]],"<"&M$8) -> 2 | N10: =COUNTIFS(Openings_Table[[Country]:[Country]],"Saudi_Arabia",Openings_Table[[Opening Date]:[Opening Date]],"<"&N$8) -> 2 | ... AP10: =COUNTIFS(Openings_Table[[Country]:[Country]],"Saudi_Arabia",Openings_Table[[Opening Date]:[Opening Date]],"<"&AP$8) -> 2
F11: N* of UAE | G11: =COUNTIFS(Openings_Table[[Country]:[Country]],"UAE",Openings_Table[[Opening Date]:[Opening Date]],"<"&G$8) -> 0 | H11: =COUNTIFS(Openings_Table[[Country]:[Country]],"UAE",Openings_Table[[Opening Date]:[Opening Date]],"<"&H$8) -> 0 | I11: =COUNTIFS(Openings_Table[[Country]:[Country]],"UAE",Openings_Table[[Opening Date]:[Opening Date]],"<"&I$8) -> 0 | J11: =COUNTIFS(Openings_Table[[Country]:[Country]],"UAE",Openings_Table[[Opening Date]:[Opening Date]],"<"&J$8) -> 0 | K11: =COUNTIFS(Openings_Table[[Country]:[Country]],"UAE",Openings_Table[[Opening Date]:[Opening Date]],"<"&K$8) -> 0 | L11: =COUNTIFS(Openings_Table[[Country]:[Country]],"UAE",Openings_Table[[Opening Date]:[Opening Date]],"<"&L$8) -> 0 | M11: =COUNTIFS(Openings_Table[[Country]:[Country]],"UAE",Openings_Table[[Opening Date]:[Opening Date]],"<"&M$8) -> 0 | N11: =COUNTIFS(Openings_Table[[Country]:[Country]],"UAE",Openings_Table[[Opening Date]:[Opening Date]],"<"&N$8) -> 0 | ... AP11: =COUNTIFS(Openings_Table[[Country]:[Country]],"UAE",Openings_Table[[Opening Date]:[Opening Date]],"<"&AP$8) -> 3
F12: N* of Qatar Shops | G12: =COUNTIFS(Openings_Table[[Country]:[Country]],"Qatar",Openings_Table[[Opening Date]:[Opening Date]],"<"&G$8) -> 0 | H12: =COUNTIFS(Openings_Table[[Country]:[Country]],"Qatar",Openings_Table[[Opening Date]:[Opening Date]],"<"&H$8) -> 0 | I12: =COUNTIFS(Openings_Table[[Country]:[Country]],"Qatar",Openings_Table[[Opening Date]:[Opening Date]],"<"&I$8) -> 0 | J12: =COUNTIFS(Openings_Table[[Country]:[Country]],"Qatar",Openings_Table[[Opening Date]:[Opening Date]],"<"&J$8) -> 0 | K12: =COUNTIFS(Openings_Table[[Country]:[Country]],"Qatar",Openings_Table[[Opening Date]:[Opening Date]],"<"&K$8) -> 0 | L12: =COUNTIFS(Openings_Table[[Country]:[Country]],"Qatar",Openings_Table[[Opening Date]:[Opening Date]],"<"&L$8) -> 0 | M12: =COUNTIFS(Openings_Table[[Country]:[Country]],"Qatar",Openings_Table[[Opening Date]:[Opening Date]],"<"&M$8) -> 0 | N12: =COUNTIFS(Openings_Table[[Country]:[Country]],"Qatar",Openings_Table[[Opening Date]:[Opening Date]],"<"&N$8) -> 0 | ... AP12: =COUNTIFS(Openings_Table[[Country]:[Country]],"Qatar",Openings_Table[[Opening Date]:[Opening Date]],"<"&AP$8) -> 1
F13: N* of Kuwait Shops | G13: =COUNTIFS(Openings_Table[[Country]:[Country]],"Kuwait",Openings_Table[[Opening Date]:[Opening Date]],"<"&G$8) -> 0 | H13: =COUNTIFS(Openings_Table[[Country]:[Country]],"Kuwait",Openings_Table[[Opening Date]:[Opening Date]],"<"&H$8) -> 0 | I13: =COUNTIFS(Openings_Table[[Country]:[Country]],"Kuwait",Openings_Table[[Opening Date]:[Opening Date]],"<"&I$8) -> 0 | J13: =COUNTIFS(Openings_Table[[Country]:[Country]],"Kuwait",Openings_Table[[Opening Date]:[Opening Date]],"<"&J$8) -> 0 | K13: =COUNTIFS(Openings_Table[[Country]:[Country]],"Kuwait",Openings_Table[[Opening Date]:[Opening Date]],"<"&K$8) -> 0 | L13: =COUNTIFS(Openings_Table[[Country]:[Country]],"Kuwait",Openings_Table[[Opening Date]:[Opening Date]],"<"&L$8) -> 0 | M13: =COUNTIFS(Openings_Table[[Country]:[Country]],"Kuwait",Openings_Table[[Opening Date]:[Opening Date]],"<"&M$8) -> 0 | N13: =COUNTIFS(Openings_Table[[Country]:[Country]],"Kuwait",Openings_Table[[Opening Date]:[Opening Date]],"<"&N$8) -> 0 | ... AP13: =COUNTIFS(Openings_Table[[Country]:[Country]],"Kuwait",Openings_Table[[Opening Date]:[Opening Date]],"<"&AP$8) -> 1
F14: N* of Turkey | G14: =COUNTIFS(Openings_Table[[Country]:[Country]],"Turkey",Openings_Table[[Opening Date]:[Opening Date]],"<"&G$8) -> 0 | H14: =COUNTIFS(Openings_Table[[Country]:[Country]],"Turkey",Openings_Table[[Opening Date]:[Opening Date]],"<"&H$8) -> 0 | I14: =COUNTIFS(Openings_Table[[Country]:[Country]],"Turkey",Openings_Table[[Opening Date]:[Opening Date]],"<"&I$8) -> 0 | J14: =COUNTIFS(Openings_Table[[Country]:[Country]],"Turkey",Openings_Table[[Opening Date]:[Opening Date]],"<"&J$8) -> 0 | K14: =COUNTIFS(Openings_Table[[Country]:[Country]],"Turkey",Openings_Table[[Opening Date]:[Opening Date]],"<"&K$8) -> 0 | L14: =COUNTIFS(Openings_Table[[Country]:[Country]],"Turkey",Openings_Table[[Opening Date]:[Opening Date]],"<"&L$8) -> 0 | M14: =COUNTIFS(Openings_Table[[Country]:[Country]],"Turkey",Openings_Table[[Opening Date]:[Opening Date]],"<"&M$8) -> 0 | N14: =COUNTIFS(Openings_Table[[Country]:[Country]],"Turkey",Openings_Table[[Opening Date]:[Opening Date]],"<"&N$8) -> 0 | ... AP14: =COUNTIFS(Openings_Table[[Country]:[Country]],"Turkey",Openings_Table[[Opening Date]:[Opening Date]],"<"&AP$8) -> 1
F15: N* of Morocco Shops | G15: =COUNTIFS(Openings_Table[[Country]:[Country]],"Morocco",Openings_Table[[Opening Date]:[Opening Date]],"<"&G$8) -> 0 | H15: =COUNTIFS(Openings_Table[[Country]:[Country]],"Morocco",Openings_Table[[Opening Date]:[Opening Date]],"<"&H$8) -> 0 | I15: =COUNTIFS(Openings_Table[[Country]:[Country]],"Morocco",Openings_Table[[Opening Date]:[Opening Date]],"<"&I$8) -> 0 | J15: =COUNTIFS(Openings_Table[[Country]:[Country]],"Morocco",Openings_Table[[Opening Date]:[Opening Date]],"<"&J$8) -> 0 | K15: =COUNTIFS(Openings_Table[[Country]:[Country]],"Morocco",Openings_Table[[Opening Date]:[Opening Date]],"<"&K$8) -> 0 | L15: =COUNTIFS(Openings_Table[[Country]:[Country]],"Morocco",Openings_Table[[Opening Date]:[Opening Date]],"<"&L$8) -> 0 | M15: =COUNTIFS(Openings_Table[[Country]:[Country]],"Morocco",Openings_Table[[Opening Date]:[Opening Date]],"<"&M$8) -> 0 | N15: =COUNTIFS(Openings_Table[[Country]:[Country]],"Morocco",Openings_Table[[Opening Date]:[Opening Date]],"<"&N$8) -> 0 | ... AP15: =COUNTIFS(Openings_Table[[Country]:[Country]],"Morocco",Openings_Table[[Opening Date]:[Opening Date]],"<"&AP$8) -> 1
F16: N* of Egypt Shops | G16: =COUNTIFS(Openings_Table[[Country]:[Country]],"Egypt",Openings_Table[[Opening Date]:[Opening Date]],"<"&G$8) -> 0 | H16: =COUNTIFS(Openings_Table[[Country]:[Country]],"Egypt",Openings_Table[[Opening Date]:[Opening Date]],"<"&H$8) -> 0 | I16: =COUNTIFS(Openings_Table[[Country]:[Country]],"Egypt",Openings_Table[[Opening Date]:[Opening Date]],"<"&I$8) -> 0 | J16: =COUNTIFS(Openings_Table[[Country]:[Country]],"Egypt",Openings_Table[[Opening Date]:[Opening Date]],"<"&J$8) -> 0 | K16: =COUNTIFS(Openings_Table[[Country]:[Country]],"Egypt",Openings_Table[[Opening Date]:[Opening Date]],"<"&K$8) -> 0 | L16: =COUNTIFS(Openings_Table[[Country]:[Country]],"Egypt",Openings_Table[[Opening Date]:[Opening Date]],"<"&L$8) -> 0 | M16: =COUNTIFS(Openings_Table[[Country]:[Country]],"Egypt",Openings_Table[[Opening Date]:[Opening Date]],"<"&M$8) -> 0 | N16: =COUNTIFS(Openings_Table[[Country]:[Country]],"Egypt",Openings_Table[[Opening Date]:[Opening Date]],"<"&N$8) -> 0 | ... AP16: =COUNTIFS(Openings_Table[[Country]:[Country]],"Egypt",Openings_Table[[Opening Date]:[Opening Date]],"<"&AP$8) -> 1
D17: P&L
F18: Revenue
F20: Deferred Revenue from Saudi Arabia Openings | G20: =SUMIFS(Openings_Table[[Initial One-Time Fee]:[Initial One-Time Fee]],Openings_Table[[Country]:[Country]],"Saudi_Arabia",Openings_Table[[Opening Date]:[Opening Date]],"<"&G$8)/(12*10) -> 3333.3333 | H20: =SUMIFS(Openings_Table[[Initial One-Time Fee]:[Initial One-Time Fee]],Openings_Table[[Country]:[Country]],"Saudi_Arabia",Openings_Table[[Opening Date]:[Opening Date]],"<"&H8)/(12*10) -> 3333.3333 | I20: =SUMIFS(Openings_Table[[Initial One-Time Fee]:[Initial One-Time Fee]],Openings_Table[[Country]:[Country]],"Saudi_Arabia",Openings_Table[[Opening Date]:[Opening Date]],"<"&I8)/(12*10) -> 3333.3333 | J20: =SUMIFS(Openings_Table[[Initial One-Time Fee]:[Initial One-Time Fee]],Openings_Table[[Country]:[Country]],"Saudi_Arabia",Openings_Table[[Opening Date]:[Opening Date]],"<"&J8)/(12*10) -> 3333.3333 | K20: =SUMIFS(Openings_Table[[Initial One-Time Fee]:[Initial One-Time Fee]],Openings_Table[[Country]:[Country]],"Saudi_Arabia",Openings_Table[[Opening Date]:[Opening Date]],"<"&K8)/(12*10) -> 3333.3333 | L20: =SUMIFS(Openings_Table[[Initial One-Time Fee]:[Initial One-Time Fee]],Openings_Table[[Country]:[Country]],"Saudi_Arabia",Openings_Table[[Opening Date]:[Opening Date]],"<"&L8)/(12*10) -> 4583.3333 | M20: =SUMIFS(Openings_Table[[Initial One-Time Fee]:[Initial One-Time Fee]],Openings_Table[[Country]:[Country]],"Saudi_Arabia",Openings_Table[[Opening Date]:[Opening Date]],"<"&M8)/(12*10) -> 4583.3333 | N20: =SUMIFS(Openings_Table[[Initial One-Time Fee]:[Initial One-Time Fee]],Openings_Table[[Country]:[Country]],"Saudi_Arabia",Openings_Table[[Opening Date]:[Opening Date]],"<"&N8)/(12*10) -> 4583.3333 | O20: =SUMIFS(Openings_Table[[Initial One-Time Fee]:[Initial One-Time Fee]],Openings_Table[[Country]:[Country]],"Saudi_Arabia",Openings_Table[[Opening Date]:[Opening Date]],"<"&O8)/(12*10) -> 4583.3333 | ... AP20: =SUMIFS(Openings_Table[[Initial One-Time Fee]:[Initial One-Time Fee]],Openings_Table[[Country]:[Country]],"Saudi_Arabia",Openings_Table[[Opening Date]:[Opening Date]],"<"&AP8)/(12*10) -> 4583.3333
F21: Deferred Revenue from UAE Openings | G21: =SUMIFS(Openings_Table[[Initial One-Time Fee]:[Initial One-Time Fee]],Openings_Table[[Country]:[Country]],"UAE",Openings_Table[[Opening Date]:[Opening Date]],"<"&G$8)/(12*10) -> 0 | H21: =SUMIFS(Openings_Table[[Initial One-Time Fee]:[Initial One-Time Fee]],Openings_Table[[Country]:[Country]],"UAE",Openings_Table[[Opening Date]:[Opening Date]],"<"&H$8)/(12*10) -> 0 | I21: =SUMIFS(Openings_Table[[Initial One-Time Fee]:[Initial One-Time Fee]],Openings_Table[[Country]:[Country]],"UAE",Openings_Table[[Opening Date]:[Opening Date]],"<"&I$8)/(12*10) -> 0 | J21: =SUMIFS(Openings_Table[[Initial One-Time Fee]:[Initial One-Time Fee]],Openings_Table[[Country]:[Country]],"UAE",Openings_Table[[Opening Date]:[Opening Date]],"<"&J$8)/(12*10) -> 0 | K21: =SUMIFS(Openings_Table[[Initial One-Time Fee]:[Initial One-Time Fee]],Openings_Table[[Country]:[Country]],"UAE",Openings_Table[[Opening Date]:[Opening Date]],"<"&K$8)/(12*10) -> 0 | L21: =SUMIFS(Openings_Table[[Initial One-Time Fee]:[Initial One-Time Fee]],Openings_Table[[Country]:[Country]],"UAE",Openings_Table[[Opening Date]:[Opening Date]],"<"&L$8)/(12*10) -> 0 | M21: =SUMIFS(Openings_Table[[Initial One-Time Fee]:[Initial One-Time Fee]],Openings_Table[[Country]:[Country]],"UAE",Openings_Table[[Opening Date]:[Opening Date]],"<"&M$8)/(12*10) -> 0 | N21: =SUMIFS(Openings_Table[[Initial One-Time Fee]:[Initial One-Time Fee]],Openings_Table[[Country]:[Country]],"UAE",Openings_Table[[Opening Date]:[Opening Date]],"<"&N$8)/(12*10) -> 0 | ... AP21: =SUMIFS(Openings_Table[[Initial One-Time Fee]:[Initial One-Time Fee]],Openings_Table[[Country]:[Country]],"UAE",Openings_Table[[Opening Date]:[Opening Date]],"<"&AP$8)/(12*10) -> 5833.3333
F22: Deferred Revenue from Qatar Openings | G22: =SUMIFS(Openings_Table[[Initial One-Time Fee]:[Initial One-Time Fee]],Openings_Table[[Country]:[Country]],"Qatar",Openings_Table[[Opening Date]:[Opening Date]],"<"&G$8)/(12*10) -> 0 | H22: =SUMIFS(Openings_Table[[Initial One-Time Fee]:[Initial One-Time Fee]],Openings_Table[[Country]:[Country]],"Qatar",Openings_Table[[Opening Date]:[Opening Date]],"<"&H$8)/(12*10) -> 0 | I22: =SUMIFS(Openings_Table[[Initial One-Time Fee]:[Initial One-Time Fee]],Openings_Table[[Country]:[Country]],"Qatar",Openings_Table[[Opening Date]:[Opening Date]],"<"&I$8)/(12*10) -> 0 | J22: =SUMIFS(Openings_Table[[Initial One-Time Fee]:[Initial One-Time Fee]],Openings_Table[[Country]:[Country]],"Qatar",Openings_Table[[Opening Date]:[Opening Date]],"<"&J$8)/(12*10) -> 0 | K22: =SUMIFS(Openings_Table[[Initial One-Time Fee]:[Initial One-Time Fee]],Openings_Table[[Country]:[Country]],"Qatar",Openings_Table[[Opening Date]:[Opening Date]],"<"&K$8)/(12*10) -> 0 | L22: =SUMIFS(Openings_Table[[Initial One-Time Fee]:[Initial One-Time Fee]],Openings_Table[[Country]:[Country]],"Qatar",Openings_Table[[Opening Date]:[Opening Date]],"<"&L$8)/(12*10) -> 0 | M22: =SUMIFS(Openings_Table[[Initial One-Time Fee]:[Initial One-Time Fee]],Openings_Table[[Country]:[Country]],"Qatar",Openings_Table[[Opening Date]:[Opening Date]],"<"&M$8)/(12*10) -> 0 | N22: =SUMIFS(Openings_Table[[Initial One-Time Fee]:[Initial One-Time Fee]],Openings_Table[[Country]:[Country]],"Qatar",Openings_Table[[Opening Date]:[Opening Date]],"<"&N$8)/(12*10) -> 0 | ... AP22: =SUMIFS(Openings_Table[[Initial One-Time Fee]:[Initial One-Time Fee]],Openings_Table[[Country]:[Country]],"Qatar",Openings_Table[[Opening Date]:[Opening Date]],"<"&AP$8)/(12*10) -> 3333.3333
F23: Deferred Revenue from Kuwait Openings | G23: =SUMIFS(Openings_Table[[Initial One-Time Fee]:[Initial One-Time Fee]],Openings_Table[[Country]:[Country]],"Kuwait",Openings_Table[[Opening Date]:[Opening Date]],"<"&G$8)/(12*10) -> 0 | H23: =SUMIFS(Openings_Table[[Initial One-Time Fee]:[Initial One-Time Fee]],Openings_Table[[Country]:[Country]],"Kuwait",Openings_Table[[Opening Date]:[Opening Date]],"<"&H$8)/(12*10) -> 0 | I23: =SUMIFS(Openings_Table[[Initial One-Time Fee]:[Initial One-Time Fee]],Openings_Table[[Country]:[Country]],"Kuwait",Openings_Table[[Opening Date]:[Opening Date]],"<"&I$8)/(12*10) -> 0 | J23: =SUMIFS(Openings_Table[[Initial One-Time Fee]:[Initial One-Time Fee]],Openings_Table[[Country]:[Country]],"Kuwait",Openings_Table[[Opening Date]:[Opening Date]],"<"&J$8)/(12*10) -> 0 | K23: =SUMIFS(Openings_Table[[Initial One-Time Fee]:[Initial One-Time Fee]],Openings_Table[[Country]:[Country]],"Kuwait",Openings_Table[[Opening Date]:[Opening Date]],"<"&K$8)/(12*10) -> 0 | L23: =SUMIFS(Openings_Table[[Initial One-Time Fee]:[Initial One-Time Fee]],Openings_Table[[Country]:[Country]],"Kuwait",Openings_Table[[Opening Date]:[Opening Date]],"<"&L$8)/(12*10) -> 0 | M23: =SUMIFS(Openings_Table[[Initial One-Time Fee]:[Initial One-Time Fee]],Openings_Table[[Country]:[Country]],"Kuwait",Openings_Table[[Opening Date]:[Opening Date]],"<"&M$8)/(12*10) -> 0 | N23: =SUMIFS(Openings_Table[[Initial One-Time Fee]:[Initial One-Time Fee]],Openings_Table[[Country]:[Country]],"Kuwait",Openings_Table[[Opening Date]:[Opening Date]],"<"&N$8)/(12*10) -> 0 | ... AP23: =SUMIFS(Openings_Table[[Initial One-Time Fee]:[Initial One-Time Fee]],Openings_Table[[Country]:[Country]],"Kuwait",Openings_Table[[Opening Date]:[Opening Date]],"<"&AP$8)/(12*10) -> 3333.3333
F24: Deferred Revenue from Turkey | G24: =SUMIFS(Openings_Table[[Initial One-Time Fee]:[Initial One-Time Fee]],Openings_Table[[Country]:[Country]],"Turkey",Openings_Table[[Opening Date]:[Opening Date]],"<"&G$8)/(12*10) -> 0 | H24: =SUMIFS(Openings_Table[[Initial One-Time Fee]:[Initial One-Time Fee]],Openings_Table[[Country]:[Country]],"Turkey",Openings_Table[[Opening Date]:[Opening Date]],"<"&H$8)/(12*10) -> 0 | I24: =SUMIFS(Openings_Table[[Initial One-Time Fee]:[Initial One-Time Fee]],Openings_Table[[Country]:[Country]],"Turkey",Openings_Table[[Opening Date]:[Opening Date]],"<"&I$8)/(12*10) -> 0 | J24: =SUMIFS(Openings_Table[[Initial One-Time Fee]:[Initial One-Time Fee]],Openings_Table[[Country]:[Country]],"Turkey",Openings_Table[[Opening Date]:[Opening Date]],"<"&J$8)/(12*10) -> 0 | K24: =SUMIFS(Openings_Table[[Initial One-Time Fee]:[Initial One-Time Fee]],Openings_Table[[Country]:[Country]],"Turkey",Openings_Table[[Opening Date]:[Opening Date]],"<"&K$8)/(12*10) -> 0 | L24: =SUMIFS(Openings_Table[[Initial One-Time Fee]:[Initial One-Time Fee]],Openings_Table[[Country]:[Country]],"Turkey",Openings_Table[[Opening Date]:[Opening Date]],"<"&L$8)/(12*10) -> 0 | M24: =SUMIFS(Openings_Table[[Initial One-Time Fee]:[Initial One-Time Fee]],Openings_Table[[Country]:[Country]],"Turkey",Openings_Table[[Opening Date]:[Opening Date]],"<"&M$8)/(12*10) -> 0 | N24: =SUMIFS(Openings_Table[[Initial One-Time Fee]:[Initial One-Time Fee]],Openings_Table[[Country]:[Country]],"Turkey",Openings_Table[[Opening Date]:[Opening Date]],"<"&N$8)/(12*10) -> 0 | ... AP24: =SUMIFS(Openings_Table[[Initial One-Time Fee]:[Initial One-Time Fee]],Openings_Table[[Country]:[Country]],"Turkey",Openings_Table[[Opening Date]:[Opening Date]],"<"&AP$8)/(12*10) -> 3333.3333
F25: Deferred Revenue from Morocco Openings | G25: =SUMIFS(Openings_Table[[Initial One-Time Fee]:[Initial One-Time Fee]],Openings_Table[[Country]:[Country]],"Morocco",Openings_Table[[Opening Date]:[Opening Date]],"<"&G$8)/(12*10) -> 0 | H25: =SUMIFS(Openings_Table[[Initial One-Time Fee]:[Initial One-Time Fee]],Openings_Table[[Country]:[Country]],"Morocco",Openings_Table[[Opening Date]:[Opening Date]],"<"&H$8)/(12*10) -> 0 | I25: =SUMIFS(Openings_Table[[Initial One-Time Fee]:[Initial One-Time Fee]],Openings_Table[[Country]:[Country]],"Morocco",Openings_Table[[Opening Date]:[Opening Date]],"<"&I$8)/(12*10) -> 0 | J25: =SUMIFS(Openings_Table[[Initial One-Time Fee]:[Initial One-Time Fee]],Openings_Table[[Country]:[Country]],"Morocco",Openings_Table[[Opening Date]:[Opening Date]],"<"&J$8)/(12*10) -> 0 | K25: =SUMIFS(Openings_Table[[Initial One-Time Fee]:[Initial One-Time Fee]],Openings_Table[[Country]:[Country]],"Morocco",Openings_Table[[Opening Date]:[Opening Date]],"<"&K$8)/(12*10) -> 0 | L25: =SUMIFS(Openings_Table[[Initial One-Time Fee]:[Initial One-Time Fee]],Openings_Table[[Country]:[Country]],"Morocco",Openings_Table[[Opening Date]:[Opening Date]],"<"&L$8)/(12*10) -> 0 | M25: =SUMIFS(Openings_Table[[Initial One-Time Fee]:[Initial One-Time Fee]],Openings_Table[[Country]:[Country]],"Morocco",Openings_Table[[Opening Date]:[Opening Date]],"<"&M$8)/(12*10) -> 0 | N25: =SUMIFS(Openings_Table[[Initial One-Time Fee]:[Initial One-Time Fee]],Openings_Table[[Country]:[Country]],"Morocco",Openings_Table[[Opening Date]:[Opening Date]],"<"&N$8)/(12*10) -> 0 | ... AP25: =SUMIFS(Openings_Table[[Initial One-Time Fee]:[Initial One-Time Fee]],Openings_Table[[Country]:[Country]],"Morocco",Openings_Table[[Opening Date]:[Opening Date]],"<"&AP$8)/(12*10) -> 3333.3333
F26: Deferred Revenue from Egypt Openings | G26: =SUMIFS(Openings_Table[[Initial One-Time Fee]:[Initial One-Time Fee]],Openings_Table[[Country]:[Country]],"Egypt",Openings_Table[[Opening Date]:[Opening Date]],"<"&G$8)/(12*10) -> 0 | H26: =SUMIFS(Openings_Table[[Initial One-Time Fee]:[Initial One-Time Fee]],Openings_Table[[Country]:[Country]],"Egypt",Openings_Table[[Opening Date]:[Opening Date]],"<"&H$8)/(12*10) -> 0 | I26: =SUMIFS(Openings_Table[[Initial One-Time Fee]:[Initial One-Time Fee]],Openings_Table[[Country]:[Country]],"Egypt",Openings_Table[[Opening Date]:[Opening Date]],"<"&I$8)/(12*10) -> 0 | J26: =SUMIFS(Openings_Table[[Initial One-Time Fee]:[Initial One-Time Fee]],Openings_Table[[Country]:[Country]],"Egypt",Openings_Table[[Opening Date]:[Opening Date]],"<"&J$8)/(12*10) -> 0 | K26: =SUMIFS(Openings_Table[[Initial One-Time Fee]:[Initial One-Time Fee]],Openings_Table[[Country]:[Country]],"Egypt",Openings_Table[[Opening Date]:[Opening Date]],"<"&K$8)/(12*10) -> 0 | L26: =SUMIFS(Openings_Table[[Initial One-Time Fee]:[Initial One-Time Fee]],Openings_Table[[Country]:[Country]],"Egypt",Openings_Table[[Opening Date]:[Opening Date]],"<"&L$8)/(12*10) -> 0 | M26: =SUMIFS(Openings_Table[[Initial One-Time Fee]:[Initial One-Time Fee]],Openings_Table[[Country]:[Country]],"Egypt",Openings_Table[[Opening Date]:[Opening Date]],"<"&M$8)/(12*10) -> 0 | N26: =SUMIFS(Openings_Table[[Initial One-Time Fee]:[Initial One-Time Fee]],Openings_Table[[Country]:[Country]],"Egypt",Openings_Table[[Opening Date]:[Opening Date]],"<"&N$8)/(12*10) -> 0 | ... AP26: =SUMIFS(Openings_Table[[Initial One-Time Fee]:[Initial One-Time Fee]],Openings_Table[[Country]:[Country]],"Egypt",Openings_Table[[Opening Date]:[Opening Date]],"<"&AP$8)/(12*10) -> 3333.3333
F28: Total | G28: =SUM(G20:G26) -> 3333.3333 | H28: =SUM(H20:H26) -> 3333.3333 | I28: =SUM(I20:I26) -> 3333.3333 | J28: =SUM(J20:J26) -> 3333.3333 | K28: =SUM(K20:K26) -> 3333.3333 | L28: =SUM(L20:L26) -> 4583.3333 | M28: =SUM(M20:M26) -> 4583.3333 | N28: =SUM(N20:N26) -> 4583.3333 | ... AP28: =SUM(AP20:AP26) -> 27083.333
F30: Revenue from Saudi Arabia Shops | G30: =INDEX(Sales_Saudi_Arabia[],MATCH(G$8,Sales_Saudi_Arabia[[Period]:[Period]],0),9)*G10 -> 10000 | H30: =INDEX(Sales_Saudi_Arabia[],MATCH(H8,Sales_Saudi_Arabia[[Period]:[Period]],0),9) * COUNTIFS(Openings_Table[[Country]:[Country]],"Saudi_Arabia",Openings_Table[[Opening Date]:[Opening Date]],"<"&H8) -> 10000 | I30: =INDEX(Sales_Saudi_Arabia[],MATCH(I8,Sales_Saudi_Arabia[[Period]:[Period]],0),9) * COUNTIFS(Openings_Table[[Country]:[Country]],"Saudi_Arabia",Openings_Table[[Opening Date]:[Opening Date]],"<"&I8) -> 10000 | J30: =INDEX(Sales_Saudi_Arabia[],MATCH(J8,Sales_Saudi_Arabia[[Period]:[Period]],0),9) * COUNTIFS(Openings_Table[[Country]:[Country]],"Saudi_Arabia",Openings_Table[[Opening Date]:[Opening Date]],"<"&J8) -> 10000 | K30: =INDEX(Sales_Saudi_Arabia[],MATCH(K8,Sales_Saudi_Arabia[[Period]:[Period]],0),9) * COUNTIFS(Openings_Table[[Country]:[Country]],"Saudi_Arabia",Openings_Table[[Opening Date]:[Opening Date]],"<"&K8) -> 10000 | L30: =INDEX(Sales_Saudi_Arabia[],MATCH(L8,Sales_Saudi_Arabia[[Period]:[Period]],0),9) * COUNTIFS(Openings_Table[[Country]:[Country]],"Saudi_Arabia",Openings_Table[[Opening Date]:[Opening Date]],"<"&L8) -> 20000 | M30: =INDEX(Sales_Saudi_Arabia[],MATCH(M8,Sales_Saudi_Arabia[[Period]:[Period]],0),9) * COUNTIFS(Openings_Table[[Country]:[Country]],"Saudi_Arabia",Openings_Table[[Opening Date]:[Opening Date]],"<"&M8) -> 20000 | N30: =INDEX(Sales_Saudi_Arabia[],MATCH(N8,Sales_Saudi_Arabia[[Period]:[Period]],0),9) * COUNTIFS(Openings_Table[[Country]:[Country]],"Saudi_Arabia",Openings_Table[[Opening Date]:[Opening Date]],"<"&N8) -> 20000 | O30: =INDEX(Sales_Saudi_Arabia[],MATCH(O8,Sales_Saudi_Arabia[[Period]:[Period]],0),9) * COUNTIFS(Openings_Table[[Country]:[Country]],"Saudi_Arabia",Openings_Table[[Opening Date]:[Opening Date]],"<"&O8) -> 20000 | ... AP30: =INDEX(Sales_Saudi_Arabia[],MATCH(AP8,Sales_Saudi_Arabia[[Period]:[Period]],0),9) * COUNTIFS(Openings_Table[[Country]:[Country]],"Saudi_Arabia",Openings_Table[[Opening Date]:[Opening Date]],"<"&AP8) -> 20000
F31: Revenue from UAE Shops | G31: =INDEX(Sales_UAE[],MATCH(G$8,Sales_UAE[[Period]:[Period]],0),9)*G11 -> 0 | H31: =INDEX(Sales_UAE[],MATCH(H$8,Sales_UAE[[Period]:[Period]],0),9)*H11 -> 0 | I31: =INDEX(Sales_UAE[],MATCH(I$8,Sales_UAE[[Period]:[Period]],0),9)*I11 -> 0 | J31: =INDEX(Sales_UAE[],MATCH(J$8,Sales_UAE[[Period]:[Period]],0),9)*J11 -> 0 | K31: =INDEX(Sales_UAE[],MATCH(K$8,Sales_UAE[[Period]:[Period]],0),9)*K11 -> 0 | L31: =INDEX(Sales_UAE[],MATCH(L$8,Sales_UAE[[Period]:[Period]],0),9)*L11 -> 0 | M31: =INDEX(Sales_UAE[],MATCH(M$8,Sales_UAE[[Period]:[Period]],0),9)*M11 -> 0 | N31: =INDEX(Sales_UAE[],MATCH(N$8,Sales_UAE[[Period]:[Period]],0),9)*N11 -> 0 | ... AP31: =INDEX(Sales_UAE[],MATCH(AP$8,Sales_UAE[[Period]:[Period]],0),9)*AP11 -> 38045.314
F32: Revenue from Qatar Shops | G32: =INDEX(Sales_Qatar[],MATCH(G$8,Sales_Qatar[[Period]:[Period]],0),9)*G12 -> 0 | H32: =INDEX(Sales_Qatar[],MATCH(H$8,Sales_Qatar[[Period]:[Period]],0),9)*H12 -> 0 | I32: =INDEX(Sales_Qatar[],MATCH(I$8,Sales_Qatar[[Period]:[Period]],0),9)*I12 -> 0 | J32: =INDEX(Sales_Qatar[],MATCH(J$8,Sales_Qatar[[Period]:[Period]],0),9)*J12 -> 0 | K32: =INDEX(Sales_Qatar[],MATCH(K$8,Sales_Qatar[[Period]:[Period]],0),9)*K12 -> 0 | L32: =INDEX(Sales_Qatar[],MATCH(L$8,Sales_Qatar[[Period]:[Period]],0),9)*L12 -> 0 | M32: =INDEX(Sales_Qatar[],MATCH(M$8,Sales_Qatar[[Period]:[Period]],0),9)*M12 -> 0 | N32: =INDEX(Sales_Qatar[],MATCH(N$8,Sales_Qatar[[Period]:[Period]],0),9)*N12 -> 0 | ... AP32: =INDEX(Sales_Qatar[],MATCH(AP$8,Sales_Qatar[[Period]:[Period]],0),9)*AP12 -> 12081.083
F33: Revenue from Kuwait Shops | G33: =INDEX(Sales_Kuwait[],MATCH(G$8,Sales_Kuwait[[Period]:[Period]],0),9)*G13 -> 0 | H33: =INDEX(Sales_Kuwait[],MATCH(H$8,Sales_Kuwait[[Period]:[Period]],0),9)*H13 -> 0 | I33: =INDEX(Sales_Kuwait[],MATCH(I$8,Sales_Kuwait[[Period]:[Period]],0),9)*I13 -> 0 | J33: =INDEX(Sales_Kuwait[],MATCH(J$8,Sales_Kuwait[[Period]:[Period]],0),9)*J13 -> 0 | K33: =INDEX(Sales_Kuwait[],MATCH(K$8,Sales_Kuwait[[Period]:[Period]],0),9)*K13 -> 0 | L33: =INDEX(Sales_Kuwait[],MATCH(L$8,Sales_Kuwait[[Period]:[Period]],0),9)*L13 -> 0 | M33: =INDEX(Sales_Kuwait[],MATCH(M$8,Sales_Kuwait[[Period]:[Period]],0),9)*M13 -> 0 | N33: =INDEX(Sales_Kuwait[],MATCH(N$8,Sales_Kuwait[[Period]:[Period]],0),9)*N13 -> 0 | ... AP33: =INDEX(Sales_Kuwait[],MATCH(AP$8,Sales_Kuwait[[Period]:[Period]],0),9)*AP13 -> 11401.452
F34: Revenue from Turkey | G34: =INDEX(Sales_Turkey[],MATCH(G$8,Sales_Turkey[[Period]:[Period]],0),9)*G14 -> 0 | H34: =INDEX(Sales_Turkey[],MATCH(H$8,Sales_Turkey[[Period]:[Period]],0),9)*H14 -> 0 | I34: =INDEX(Sales_Turkey[],MATCH(I$8,Sales_Turkey[[Period]:[Period]],0),9)*I14 -> 0 | J34: =INDEX(Sales_Turkey[],MATCH(J$8,Sales_Turkey[[Period]:[Period]],0),9)*J14 -> 0 | K34: =INDEX(Sales_Turkey[],MATCH(K$8,Sales_Turkey[[Period]:[Period]],0),9)*K14 -> 0 | L34: =INDEX(Sales_Turkey[],MATCH(L$8,Sales_Turkey[[Period]:[Period]],0),9)*L14 -> 0 | M34: =INDEX(Sales_Turkey[],MATCH(M$8,Sales_Turkey[[Period]:[Period]],0),9)*M14 -> 0 | N34: =INDEX(Sales_Turkey[],MATCH(N$8,Sales_Turkey[[Period]:[Period]],0),9)*N14 -> 0 | ... AP34: =INDEX(Sales_Turkey[],MATCH(AP$8,Sales_Turkey[[Period]:[Period]],0),9)*AP14 -> 10000
F35: Revenue from Morocco Shops | G35: =INDEX(Sales_Morocco[],MATCH(G$8,Sales_Morocco[[Period]:[Period]],0),9)*G15 -> 0 | H35: =INDEX(Sales_Morocco[],MATCH(H$8,Sales_Morocco[[Period]:[Period]],0),9)*H15 -> 0 | I35: =INDEX(Sales_Morocco[],MATCH(I$8,Sales_Morocco[[Period]:[Period]],0),9)*I15 -> 0 | J35: =INDEX(Sales_Morocco[],MATCH(J$8,Sales_Morocco[[Period]:[Period]],0),9)*J15 -> 0 | K35: =INDEX(Sales_Morocco[],MATCH(K$8,Sales_Morocco[[Period]:[Period]],0),9)*K15 -> 0 | L35: =INDEX(Sales_Morocco[],MATCH(L$8,Sales_Morocco[[Period]:[Period]],0),9)*L15 -> 0 | M35: =INDEX(Sales_Morocco[],MATCH(M$8,Sales_Morocco[[Period]:[Period]],0),9)*M15 -> 0 | N35: =INDEX(Sales_Morocco[],MATCH(N$8,Sales_Morocco[[Period]:[Period]],0),9)*N15 -> 0 | ... AP35: =INDEX(Sales_Morocco[],MATCH(AP$8,Sales_Morocco[[Period]:[Period]],0),9)*AP15 -> 10000
F36: Revenue from Egypt Shops | G36: =INDEX(Sales_Egypt[],MATCH(G$8,Sales_Egypt[[Period]:[Period]],0),9)*G16 -> 0 | H36: =INDEX(Sales_Egypt[],MATCH(H$8,Sales_Egypt[[Period]:[Period]],0),9)*H16 -> 0 | I36: =INDEX(Sales_Egypt[],MATCH(I$8,Sales_Egypt[[Period]:[Period]],0),9)*I16 -> 0 | J36: =INDEX(Sales_Egypt[],MATCH(J$8,Sales_Egypt[[Period]:[Period]],0),9)*J16 -> 0 | K36: =INDEX(Sales_Egypt[],MATCH(K$8,Sales_Egypt[[Period]:[Period]],0),9)*K16 -> 0 | L36: =INDEX(Sales_Egypt[],MATCH(L$8,Sales_Egypt[[Period]:[Period]],0),9)*L16 -> 0 | M36: =INDEX(Sales_Egypt[],MATCH(M$8,Sales_Egypt[[Period]:[Period]],0),9)*M16 -> 0 | N36: =INDEX(Sales_Egypt[],MATCH(N$8,Sales_Egypt[[Period]:[Period]],0),9)*N16 -> 0 | ... AP36: =INDEX(Sales_Egypt[],MATCH(AP$8,Sales_Egypt[[Period]:[Period]],0),9)*AP16 -> 10199.628
F37: Total Revenue | G37: =SUM(G20:G26,G30:G36) -> 13333.333 | H37: =SUM(H20:H26,H30:H36) -> 13333.333 | I37: =SUM(I20:I26,I30:I36) -> 13333.333 | J37: =SUM(J20:J26,J30:J36) -> 13333.333 | K37: =SUM(K20:K26,K30:K36) -> 13333.333 | L37: =SUM(L20:L26,L30:L36) -> 24583.333 | M37: =SUM(M20:M26,M30:M36) -> 24583.333 | N37: =SUM(N20:N26,N30:N36) -> 24583.333 | ... AP37: =SUM(AP20:AP26,AP30:AP36) -> 138810.81 | AR37: =SUM(Openings_Table[[2024]:[2026]])-SUM(G30:AP36) -> 0
F40: COGS
B41: Expenses related to training new franchisees, including materials, staff time, and any related travel or accommodation costs. | F41: Training Costs
B42: Ongoing support provided to franchisees, such as consulting, operational assistance, technology support, etc. | C42: 5000 | D42: 2 per year x shop | F42: Support Costs including visits | G42: =($C$42*(SUM(G10:G16)*2))/12 -> 833.33333 | H42: =($C$42*(SUM(H10:H16)*2))/12 -> 833.33333 | I42: =($C$42*(SUM(I10:I16)*2))/12 -> 833.33333 | J42: =($C$42*(SUM(J10:J16)*2))/12 -> 833.33333 | K42: =($C$42*(SUM(K10:K16)*2))/12 -> 833.33333 | L42: =($C$42*(SUM(L10:L16)*2))/12 -> 1666.6667 | M42: =($C$42*(SUM(M10:M16)*2))/12 -> 1666.6667 | N42: =($C$42*(SUM(N10:N16)*2))/12 -> 1666.6667 | ... AP42: =($C$42*(SUM(AP10:AP16)*2))/12 -> 8333.3333
B43: Expenses incurred in the process of acquiring new franchisees, like advertising, brokerage fees, and participation in franchise expos. | F43: Franchisee Recruitment Costs
B44: Expenses related to ensuring that the franchise operations adhere to relevant laws and regulations. This might include costs for legal advice, compliance audits, and documentation. | C44: 10000 | D44: Per year + 2k per new shop | F44: Legal & compliance | G44: =(10000/12) -> 833.33333 | H44: =(10000/12)+(SUM(H10:H16)-SUM(G10:G16))*2000 -> 833.33333 | I44: =(10000/12)+(SUM(I10:I16)-SUM(H10:H16))*2000 -> 833.33333 | J44: =(10000/12)+(SUM(J10:J16)-SUM(I10:I16))*2000 -> 833.33333 | K44: =(10000/12)+(SUM(K10:K16)-SUM(J10:J16))*2000 -> 833.33333 | L44: =(10000/12)+(SUM(L10:L16)-SUM(K10:K16))*2000 -> 2833.3333 | M44: =(10000/12)+(SUM(M10:M16)-SUM(L10:L16))*2000 -> 833.33333 | N44: =(10000/12)+(SUM(N10:N16)-SUM(M10:M16))*2000 -> 833.33333 | O44: =(10000/12)+(SUM(O10:O16)-SUM(N10:N16))*2000 -> 833.33333 | ... AP44: =(10000/12)+(SUM(AP10:AP16)-SUM(AO10:AO16))*2000 -> 833.33333
B45: Costs for producing marketing and promotional materials supplied to franchisees. | C45: $20000 + 2k per open shop | D45: Yearly budget | F45: Sales & Marketing including advertising | G45: =(20000+2000*SUM(G10:G16))/12 -> 1833.3333 | H45: =(20000+2000*SUM(H10:H16))/12 -> 1833.3333 | I45: =(20000+2000*SUM(I10:I16))/12 -> 1833.3333 | J45: =(20000+2000*SUM(J10:J16))/12 -> 1833.3333 | K45: =(20000+2000*SUM(K10:K16))/12 -> 1833.3333 | L45: =(20000+2000*SUM(L10:L16))/12 -> 2000 | M45: =(20000+2000*SUM(M10:M16))/12 -> 2000 | N45: =(20000+2000*SUM(N10:N16))/12 -> 2000 | ... AP45: =(20000+2000*SUM(AP10:AP16))/12 -> 3333.3333
B46: Any costs associated with helping a new franchisee set up their business | F46: Initial Setup Support
B47: Expenses for maintaining or developing franchise management systems, software, and other technological tools provided to the franchisees. | F47: Technology and Software Costs
F49: Total COGS | G49: =SUM(G41:G47) -> 3500 | H49: =SUM(H41:H47) -> 3500 | I49: =SUM(I41:I47) -> 3500 | J49: =SUM(J41:J47) -> 3500 | K49: =SUM(K41:K47) -> 3500 | L49: =SUM(L41:L47) -> 6500 | M49: =SUM(M41:M47) -> 4500 | N49: =SUM(N41:N47) -> 4500 | ... AP49: =SUM(AP41:AP47) -> 12500
F51: Operating Expenses
...

Sheet SalesxCafe
A2: Saudi_Arabia | K2: Qatar | U2: UAE | AE2: Kuwait | AO2: Turkey | AY2: Morocco | BI2: Egypt
A3: Ver. | B3: Period | C3: Year | D3: Season | E3: % | F3: USD Sales | G3: Royalty | H3: To 10K | I3: Total Royalty | K3: Ver. | L3: Period | M3: Year | N3: Season | O3: % | P3: USD Sales | Q3: Royalty | R3: To 10K | S3: Total Royalty | U3: Ver. | V3: Period | W3: Year | X3: Season | Y3: % | Z3: USD Sales | AA3: Royalty | AB3: To 10K | AC3: Total Royalty | AE3: Ver. | AF3: Period | AG3: Year | AH3: Season | AI3: % | AJ3: USD Sales | AK3: Royalty | AL3: To 10K | AM3: Total Royalty | AO3: Ver. | AP3: Period | AQ3: Year | AR3: Season | AS3: % | AT3: USD Sales | AU3: Royalty | AV3: To 10K | AW3: Total Royalty | AY3: Ver. | AZ3: Period | BA3: Year | BB3: Season | BC3: % | BD3: USD Sales | BE3: Royalty | BF3: To 10K | BG3: Total Royalty | BI3: Ver. | BJ3: Period | BK3: Year | BL3: Season | BM3: % | BN3: USD Sales | BO3: Royalty | BP3: To 10K | BQ3: Total Royalty
