Workbook
Name List_OppNames: #REF!
Name Path: Aux!$A$1

Sheet Fee Distribution
E1: =SUM(_xlfn.ANCHORARRAY(E4)) -> -52779.04
G2: Lookup based on the stripe details over the stripe name and QB Name in historical Stripe Fees Files (Columns O & P)
C3: Stripe Details | D3: Date | E3: Total fees | F3: Opp Name | G3: Opp Name Lookup
C4: {=_xlfn._xlws.SORT(_xlfn.UNIQUE(_xlfn.HSTACK(Transformed_Data[Details], INT(Transformed_Data[DateQB]))), 2, 1)} -> 2512-1100 Allen Sheri 04 | D4: 45663 | E4: {=SUMIFS(Transformed_Data[Stripe fee total], Transformed_Data[Details],INDEX(_xlfn.ANCHORARRAY(C4),,1), Transformed_Data[DateQB],INDEX(_xlfn.ANCHORARRAY(C4),,2))} -> -1.1617211 | J4: =IFERROR(INDEX(_xlfn._TRO_TRAILING(#REF!),MATCH(C4,_xlfn._TRO_TRAILING(#REF!),0)),"")
C5: 2512-1900 Long Christopher 02 | D5: 45663 | E5: -1.5382789 | J5: =IFERROR(INDEX(_xlfn._TRO_TRAILING(#REF!),MATCH(C5,_xlfn._TRO_TRAILING(#REF!),0)),"")
C6: Cox James | D6: 45663 | E6: 0 | J6: =IFERROR(INDEX(_xlfn._TRO_TRAILING(#REF!),MATCH(C6,_xlfn._TRO_TRAILING(#REF!),0)),"")
C7: 2609-0900 Johnson William 01 | D7: 45663 | E7: -30.4 | J7: =IFERROR(INDEX(_xlfn._TRO_TRAILING(#REF!),MATCH(C7,_xlfn._TRO_TRAILING(#REF!),0)),"")
C8: 2604-0400 Mclaughlin Matthew 08 | D8: 45663 | E8: -234.6 | J8: =IFERROR(INDEX(_xlfn._TRO_TRAILING(#REF!),MATCH(C8,_xlfn._TRO_TRAILING(#REF!),0)),"")
C9: 2604-0300 Lozano Javier 05 | D9: 45663 | E9: -174.9 | J9: =IFERROR(INDEX(_xlfn._TRO_TRAILING(#REF!),MATCH(C9,_xlfn._TRO_TRAILING(#REF!),0)),"")
C10: 2602-0100 Carlson Jessica 04 | D10: 45663 | E10: -0.72 | J10: =IFERROR(INDEX(_xlfn._TRO_TRAILING(#REF!),MATCH(C10,_xlfn._TRO_TRAILING(#REF!),0)),"")
C11: 2512-2100 Summers Elizabeth 04 | D11: 45663 | E11: -0.16 | J11: =IFERROR(INDEX(_xlfn._TRO_TRAILING(#REF!),MATCH(C11,_xlfn._TRO_TRAILING(#REF!),0)),"")
C12: 2609-1700 Ward Sean 02 | D12: 45663 | E12: -126.6 | J12: =IFERROR(INDEX(_xlfn._TRO_TRAILING(#REF!),MATCH(C12,_xlfn._TRO_TRAILING(#REF!),0)),"")
C13: 2507-0700 Roy Judith 02 | D13: 45811 | E13: 0
C14: 2508-1000 Riddle Jean 02 | D14: 45811 | E14: 0 | J14: =IFERROR(INDEX(_xlfn._TRO_TRAILING(#REF!),MATCH(C14,_xlfn._TRO_TRAILING(#REF!),0)),"")
C15: 2508-0500 Gutierrez Gregory 02 | D15: 45811 | E15: 0 | J15: =IFERROR(INDEX(_xlfn._TRO_TRAILING(#REF!),MATCH(C15,_xlfn._TRO_TRAILING(#REF!),0)),"")
C16: 2507-1200 Herrera Kathryn 05 | D16: 45811 | E16: 0 | J16: =IFERROR(INDEX(_xlfn._TRO_TRAILING(#REF!),MATCH(C16,_xlfn._TRO_TRAILING(#REF!),0)),"")
C17: 2505-1100 Gay Sean 04 | D17: 45811 | E17: 0 | J17: =IFERROR(INDEX(_xlfn._TRO_TRAILING(#REF!),MATCH(C17,_xlfn._TRO_TRAILING(#REF!),0)),"")
C18: 2507-0300 Jimenez Alexander 05 | D18: 45811 | E18: 0 | J18: =IFERROR(INDEX(_xlfn._TRO_TRAILING(#REF!),MATCH(C18,_xlfn._TRO_TRAILING(#REF!),0)),"")
C19: 2508-1001 Riddle Christine 01 | D19: 45811 | E19: 0 | J19: =IFERROR(INDEX(_xlfn._TRO_TRAILING(#REF!),MATCH(C19,_xlfn._TRO_TRAILING(#REF!),0)),"")
C20: 2605-0300 Kelly Maria 05 | D20: 45811 | E20: 0 | J20: =IFERROR(INDEX(_xlfn._TRO_TRAILING(#REF!),MATCH(C20,_xlfn._TRO_TRAILING(#REF!),0)),"")
C21: 2508-0600 Nguyen Laura 05 | D21: 45811 | E21: 0 | J21: =IFERROR(INDEX(_xlfn._TRO_TRAILING(#REF!),MATCH(C21,_xlfn._TRO_TRAILING(#REF!),0)),"")
C22: 2508-1000 Riddle Kendra 01 | D22: 45811 | E22: 0 | J22: =IFERROR(INDEX(_xlfn._TRO_TRAILING(#REF!),MATCH(C22,_xlfn._TRO_TRAILING(#REF!),0)),"")
C23: 2505-0500 Cantrell Keith 02 | D23: 45811 | E23: 0 | J23: =IFERROR(INDEX(_xlfn._TRO_TRAILING(#REF!),MATCH(C23,_xlfn._TRO_TRAILING(#REF!),0)),"")
C24: 2508-1900 Keith Jeremy 06 | D24: 45811 | E24: 0 | J24: =IFERROR(INDEX(_xlfn._TRO_TRAILING(#REF!),MATCH(C24,_xlfn._TRO_TRAILING(#REF!),0)),"")
C25: 2506-1300 Hicks Joseph 02 | D25: 45811 | E25: 0 | J25: =IFERROR(INDEX(_xlfn._TRO_TRAILING(#REF!),MATCH(C25,_xlfn._TRO_TRAILING(#REF!),0)),"")
... C495: 2601-0100 Williams Darrell 02 | D495: 46014 | E495: -0.6 | J495: =IFERROR(INDEX(_xlfn._TRO_TRAILING(#REF!),MATCH(C495,_xlfn._TRO_TRAILING(#REF!),0)),"")
J496: =IFERROR(INDEX(_xlfn._TRO_TRAILING(#REF!),MATCH(C496,_xlfn._TRO_TRAILING(#REF!),0)),"")
J497: =IFERROR(INDEX(_xlfn._TRO_TRAILING(#REF!),MATCH(C497,_xlfn._TRO_TRAILING(#REF!),0)),"")
J498: =IFERROR(INDEX(_xlfn._TRO_TRAILING(#REF!),MATCH(C498,_xlfn._TRO_TRAILING(#REF!),0)),"")
J499: =IFERROR(INDEX(_xlfn._TRO_TRAILING(#REF!),MATCH(C499,_xlfn._TRO_TRAILING(#REF!),0)),"")
J500: =IFERROR(INDEX(_xlfn._TRO_TRAILING(#REF!),MATCH(C500,_xlfn._TRO_TRAILING(#REF!),0)),"")
J501: =IFERROR(INDEX(_xlfn._TRO_TRAILING(#REF!),MATCH(C501,_xlfn._TRO_TRAILING(#REF!),0)),"")
J502: =IFERROR(INDEX(_xlfn._TRO_TRAILING(#REF!),MATCH(C502,_xlfn._TRO_TRAILING(#REF!),0)),"")
J503: =IFERROR(INDEX(_xlfn._TRO_TRAILING(#REF!),MATCH(C503,_xlfn._TRO_TRAILING(#REF!),0)),"")
J504: =IFERROR(INDEX(_xlfn._TRO_TRAILING(#REF!),MATCH(C504,_xlfn._TRO_TRAILING(#REF!),0)),"")
J505: =IFERROR(INDEX(_xlfn._TRO_TRAILING(#REF!),MATCH(C505,_xlfn._TRO_TRAILING(#REF!),0)),"")
J506: =IFERROR(INDEX(_xlfn._TRO_TRAILING(#REF!),MATCH(C506,_xlfn._TRO_TRAILING(#REF!),0)),"")
J507: =IFERROR(INDEX(_xlfn._TRO_TRAILING(#REF!),MATCH(C507,_xlfn._TRO_TRAILING(#REF!),0)),"")
... J536: =IFERROR(INDEX(_xlfn._TRO_TRAILING(#REF!),MATCH(C536,_xlfn._TRO_TRAILING(#REF!),0)),"")

Sheet Fees by date
C1: Totals | D1: =SUM(_xlfn._TRO_TRAILING(D4:D1000)) -> -52857.24 | G1: =SUM(_xlfn._TRO_TRAILING(G4:G1000)) -> -52779.04 | H1: =SUM(_xlfn._TRO_TRAILING(H4:H1000)) -> -52208.96
C3: Date | D3: Stripe Fee | E3: Charge | F3: Fee as % | G3: Stripe fees in TRANSFORMED DATA Table | H3: Distributed fees in FEE DISTRIBUTION Table
C4: {=_xlfn.SEQUENCE(MAX(Data[Created])- MIN(Data[Created]) + 1, 1, MIN(Data[Created]), 1)} -> 45800 | D4: {=SUMIFS(Data[Amount],Data[Fees-Date],_xlfn.ANCHORARRAY(C4),Data[Type],$D$3)} -> 0 | E4: {=SUMIFS(Data[Amount],Data[Created],_xlfn.ANCHORARRAY(C4),Data[Type],$E$3,Data[Description],"<>")} -> 150 | F4: {=IFERROR(_xlfn.ANCHORARRAY(D4)/_xlfn.ANCHORARRAY(E4),"")} -> 0 | G4: {=IFERROR(SUMIFS(Transformed_Data[Stripe fee total],Transformed_Data[Created],_xlfn.ANCHORARRAY(C4)),"")} -> 0 | H4: {=SUMIFS(_xlfn._TRO_TRAILING('Fee Distribution'!$E$4:$E$561),_xlfn._TRO_TRAILING('Fee Distribution'!$D$4:$D$561),_xlfn.ANCHORARRAY(C4))} -> 0
C5: 45801 | D5: 0 | E5: 0 | G5: 0 | H5: 0
C6: 45802 | D6: 0 | E6: 0 | G6: 0 | H6: 0
C7: 45803 | D7: 0 | E7: 13080 | F7: 0 | G7: 0 | H7: 0
C8: 45804 | D8: 0 | E8: 116230 | F8: 0 | G8: 0 | H8: 0
C9: 45805 | D9: 0 | E9: 64175 | F9: 0 | G9: 0 | H9: 0
C10: 45806 | D10: 0 | E10: 74400 | F10: 0 | G10: 0 | H10: 0
C11: 45807 | D11: 0 | E11: 0 | G11: 0 | H11: 0
C12: 45808 | D12: 0 | E12: 58750 | F12: 0 | G12: 0 | H12: 0
C13: 45809 | D13: 0 | E13: 0 | G13: 0 | H13: 0
C14: 45810 | D14: 0 | E14: 231130 | F14: 0 | G14: 0 | H14: 0
C15: 45811 | D15: 0 | E15: 5178.59 | F15: 0 | G15: 0 | H15: 0
C16: 45812 | D16: 0 | E16: 74000 | F16: 0 | G16: 0 | H16: 0
C17: 45813 | D17: 0 | E17: 207295 | F17: 0 | G17: 0 | H17: 0
C18: 45814 | D18: 0 | E18: 70325 | F18: 0 | G18: 0 | H18: 0
C19: 45815 | D19: 0 | E19: 38600 | F19: 0 | G19: 0 | H19: 0
C20: 45816 | D20: 0 | E20: 2650 | F20: 0 | G20: 0 | H20: 0
C21: 45817 | D21: 0 | E21: 84389 | F21: 0 | G21: 0 | H21: 0
C22: 45818 | D22: 0 | E22: 17080 | F22: 0 | G22: 0 | H22: 0
C23: 45819 | D23: -256.8 | E23: 51359 | F23: -0.0050000974 | G23: -256.8 | H23: 0
C24: 45820 | D24: -143.65 | E24: 28730 | F24: -0.005 | G24: -143.65 | H24: 0
C25: 45821 | D25: -48.57 | E25: 9711.59 | F25: -0.0050012408 | G25: -48.57 | H25: 0
C26: 45822 | D26: 0 | E26: 0 | G26: 0 | H26: 0
C27: 45823 | D27: -217.03 | E27: 43405 | F27: -0.0050001152 | G27: -217.03 | H27: 0
C28: 45824 | D28: -494.88 | E28: 98975 | F28: -0.0050000505 | G28: -494.88 | H28: 0
C29: 45825 | D29: -215 | E29: 43000 | F29: -0.005 | G29: -215 | H29: -449.02
C30: 45826 | D30: -529 | E30: 105799 | F30: -0.0050000473 | G30: -529 | H30: 0
C31: 45827 | D31: -900.91 | E31: 180180 | F31: -0.0050000555 | G31: -900.91 | H31: 0
C32: 45828 | D32: 0 | E32: 0 | G32: 0 | H32: 0
C33: 45829 | D33: 0 | E33: 0 | G33: 0 | H33: 0
C34: 45830 | D34: 0 | E34: 0 | G34: 0 | H34: 0
C35: 45831 | D35: -337.5 | E35: 67500 | F35: -0.005 | G35: -337.5 | H35: 0
C36: 45832 | D36: -97.34 | E36: 19467.5 | F36: -0.0050001284 | G36: -97.34 | H36: -2356.82
C37: 45833 | D37: -72.45 | E37: 14490 | F37: -0.005 | G37: -72.45 | H37: 0
C38: 45834 | D38: -267.81 | E38: 53560.5 | F38: -0.00500014 | G38: -267.81 | H38: 0
C39: 45835 | D39: -647.75 | E39: 129550 | F39: -0.005 | G39: -647.75 | H39: 0
C40: 45836 | D40: -197.93 | E40: 39585 | F40: -0.0050001263 | G40: -197.93 | H40: 0
C41: 45837 | D41: 0 | E41: 0 | G41: 0 | H41: 0
...

Sheet Transformed Data QB
D1: Total Stipe Fees
D2: =SUBTOTAL(9,Transformed_Data[Stripe fee total]) -> -52779.04
C4: Stripe fee Allocation % | D4: Stripe fee total | E4: DateQB | F4: Worksheet | G4: TabName | H4: Type | I4: ID | J4: Created | K4: Description | L4: Amount | M4: Converted Amount | N4: Fees | O4: Net | P4: Details | Q4: Customer ID | R4: Customer Email | S4: rs_document (metadata)
C5: =Transformed_Data[[#This Row],[Amount]]/SUMIFS(Transformed_Data[Amount],Transformed_Data[Created],Transformed_Data[[#This Row],[Created]]) -> 0.43026706 | D5: {=IFERROR(_xlfn.XLOOKUP(Transformed_Data[[#This Row],[Created]],_xlfn._TRO_TRAILING('Fees by date'!$C$4:$C$1001),_xlfn._TRO_TRAILING('Fees by date'!$D$4:D$1001)),"")*Transformed_Data[[#This Row],[Stripe fee Allocation %]]} -> -1.1617211 | E5: =DATEVALUE(SUBSTITUTE(_xlfn.TEXTAFTER(Transformed_Data[[#This Row],[TabName]], " ", -3), " ", ", ", 2)) -> 45663 | F5: Clean December 2025 - Stripe data upload.xlsx | G5: Stripe data Jan 6 2025 | H5: Charge | J5: 46013 | K5: Invoice 238E93DA-0005 | L5: 290 | M5: 290 | N5: 10.16 | O5: 279.84 | P5: 2512-1100 Allen Sheri 04
C6: =Transformed_Data[[#This Row],[Amount]]/SUMIFS(Transformed_Data[Amount],Transformed_Data[Created],Transformed_Data[[#This Row],[Created]]) -> 0.56973294 | D6: {=IFERROR(_xlfn.XLOOKUP(Transformed_Data[[#This Row],[Created]],_xlfn._TRO_TRAILING('Fees by date'!$C$4:$C$1001),_xlfn._TRO_TRAILING('Fees by date'!$D$4:D$1001)),"")*Transformed_Data[[#This Row],[Stripe fee Allocation %]]} -> -1.5382789 | E6: =DATEVALUE(SUBSTITUTE(_xlfn.TEXTAFTER(Transformed_Data[[#This Row],[TabName]], " ", -3), " ", ", ", 2)) -> 45663 | F6: Clean December 2025 - Stripe data upload.xlsx | G6: Stripe data Jan 6 2025 | H6: Charge | J6: 46013 | K6: Invoice C60NNV6F-0004 | L6: 384 | M6: 384 | N6: 11.44 | O6: 372.56 | P6: 2512-1900 Long Christopher 02
C7: =Transformed_Data[[#This Row],[Amount]]/SUMIFS(Transformed_Data[Amount],Transformed_Data[Created],Transformed_Data[[#This Row],[Created]]) -> 1 | D7: {=IFERROR(_xlfn.XLOOKUP(Transformed_Data[[#This Row],[Created]],_xlfn._TRO_TRAILING('Fees by date'!$C$4:$C$1001),_xlfn._TRO_TRAILING('Fees by date'!$D$4:D$1001)),"")*Transformed_Data[[#This Row],[Stripe fee Allocation %]]} -> 0 | E7: =DATEVALUE(SUBSTITUTE(_xlfn.TEXTAFTER(Transformed_Data[[#This Row],[TabName]], " ", -3), " ", ", ", 2)) -> 45663 | F7: Clean December 2025 - Stripe data upload.xlsx | G7: Stripe data Jan 6 2025 | H7: Charge | J7: 46014 | L7: 185 | M7: 185 | N7: 8.44 | O7: 176.56 | P7: Cox James
C8: =Transformed_Data[[#This Row],[Amount]]/SUMIFS(Transformed_Data[Amount],Transformed_Data[Created],Transformed_Data[[#This Row],[Created]]) -> 1 | D8: {=IFERROR(_xlfn.XLOOKUP(Transformed_Data[[#This Row],[Created]],_xlfn._TRO_TRAILING('Fees by date'!$C$4:$C$1001),_xlfn._TRO_TRAILING('Fees by date'!$D$4:D$1001)),"")*Transformed_Data[[#This Row],[Stripe fee Allocation %]]} -> -30.4 | E8: =DATEVALUE(SUBSTITUTE(_xlfn.TEXTAFTER(Transformed_Data[[#This Row],[TabName]], " ", -3), " ", ", ", 2)) -> 45663 | F8: Clean December 2025 - Stripe data upload.xlsx | G8: Stripe data Jan 6 2025 | H8: Charge | J8: 46015 | K8: Invoice 1FC7CKDD-0003 | L8: 7600 | M8: 7600 | N8: 258.7 | O8: 7341.3 | P8: 2609-0900 Johnson William 01
C9: =Transformed_Data[[#This Row],[Amount]]/SUMIFS(Transformed_Data[Amount],Transformed_Data[Created],Transformed_Data[[#This Row],[Created]]) -> 1 | D9: {=IFERROR(_xlfn.XLOOKUP(Transformed_Data[[#This Row],[Created]],_xlfn._TRO_TRAILING('Fees by date'!$C$4:$C$1001),_xlfn._TRO_TRAILING('Fees by date'!$D$4:D$1001)),"")*Transformed_Data[[#This Row],[Stripe fee Allocation %]]} -> -78.2 | E9: =DATEVALUE(SUBSTITUTE(_xlfn.TEXTAFTER(Transformed_Data[[#This Row],[TabName]], " ", -3), " ", ", ", 2)) -> 45663 | F9: Clean December 2025 - Stripe data upload.xlsx | G9: Stripe data Jan 6 2025 | H9: Charge | J9: 46019 | K9: Invoice AWV4XVBZ-0007 | L9: 19550 | M9: 19550 | N9: 567.25 | O9: 18982.75 | P9: 2604-0400 Mclaughlin Matthew 08
C10: =Transformed_Data[[#This Row],[Amount]]/SUMIFS(Transformed_Data[Amount],Transformed_Data[Created],Transformed_Data[[#This Row],[Created]]) -> 1 | D10: {=IFERROR(_xlfn.XLOOKUP(Transformed_Data[[#This Row],[Created]],_xlfn._TRO_TRAILING('Fees by date'!$C$4:$C$1001),_xlfn._TRO_TRAILING('Fees by date'!$D$4:D$1001)),"")*Transformed_Data[[#This Row],[Stripe fee Allocation %]]} -> -174.9 | E10: =DATEVALUE(SUBSTITUTE(_xlfn.TEXTAFTER(Transformed_Data[[#This Row],[TabName]], " ", -3), " ", ", ", 2)) -> 45663 | F10: Clean December 2025 - Stripe data upload.xlsx | G10: Stripe data Jan 6 2025 | H10: Charge | J10: 46020 | K10: Invoice A70DA778-0008 | L10: 43725 | M10: 43725 | N10: 8 | O10: 43717 | P10: 2604-0300 Lozano Javier 05
C11: =Transformed_Data[[#This Row],[Amount]]/SUMIFS(Transformed_Data[Amount],Transformed_Data[Created],Transformed_Data[[#This Row],[Created]]) -> 0.0091231627 | D11: {=IFERROR(_xlfn.XLOOKUP(Transformed_Data[[#This Row],[Created]],_xlfn._TRO_TRAILING('Fees by date'!$C$4:$C$1001),_xlfn._TRO_TRAILING('Fees by date'!$D$4:D$1001)),"")*Transformed_Data[[#This Row],[Stripe fee Allocation %]]} -> -0.72 | E11: =DATEVALUE(SUBSTITUTE(_xlfn.TEXTAFTER(Transformed_Data[[#This Row],[TabName]], " ", -3), " ", ", ", 2)) -> 45663 | F11: Clean December 2025 - Stripe data upload.xlsx | G11: Stripe data Jan 6 2025 | H11: Charge | J11: 46021 | K11: Invoice SYLM9C6Q-0004 | L11: 180 | M11: 180 | N11: 5.52 | O11: 174.48 | P11: 2602-0100 Carlson Jessica 04
C12: =Transformed_Data[[#This Row],[Amount]]/SUMIFS(Transformed_Data[Amount],Transformed_Data[Created],Transformed_Data[[#This Row],[Created]]) -> 0.99087684 | D12: {=IFERROR(_xlfn.XLOOKUP(Transformed_Data[[#This Row],[Created]],_xlfn._TRO_TRAILING('Fees by date'!$C$4:$C$1001),_xlfn._TRO_TRAILING('Fees by date'!$D$4:D$1001)),"")*Transformed_Data[[#This Row],[Stripe fee Allocation %]]} -> -78.2 | E12: =DATEVALUE(SUBSTITUTE(_xlfn.TEXTAFTER(Transformed_Data[[#This Row],[TabName]], " ", -3), " ", ", ", 2)) -> 45663 | F12: Clean December 2025 - Stripe data upload.xlsx | G12: Stripe data Jan 6 2025 | H12: Charge | J12: 46021 | K12: Invoice AWV4XVBZ-0008 | L12: 19550 | M12: 19550 | N12: 567.25 | O12: 18982.75 | P12: 2604-0400 Mclaughlin Matthew 08
C13: =Transformed_Data[[#This Row],[Amount]]/SUMIFS(Transformed_Data[Amount],Transformed_Data[Created],Transformed_Data[[#This Row],[Created]]) -> 1 | D13: {=IFERROR(_xlfn.XLOOKUP(Transformed_Data[[#This Row],[Created]],_xlfn._TRO_TRAILING('Fees by date'!$C$4:$C$1001),_xlfn._TRO_TRAILING('Fees by date'!$D$4:D$1001)),"")*Transformed_Data[[#This Row],[Stripe fee Allocation %]]} -> -0.16 | E13: =DATEVALUE(SUBSTITUTE(_xlfn.TEXTAFTER(Transformed_Data[[#This Row],[TabName]], " ", -3), " ", ", ", 2)) -> 45663 | F13: Clean December 2025 - Stripe data upload.xlsx | G13: Stripe data Jan 6 2025 | H13: Charge | J13: 46022 | K13: Invoice A1JWFX2Q-0003 | L13: 40 | M13: 40 | N13: 1.46 | O13: 38.54 | P13: 2512-2100 Summers Elizabeth 04
C14: =Transformed_Data[[#This Row],[Amount]]/SUMIFS(Transformed_Data[Amount],Transformed_Data[Created],Transformed_Data[[#This Row],[Created]]) -> 0.38183594 | D14: {=IFERROR(_xlfn.XLOOKUP(Transformed_Data[[#This Row],[Created]],_xlfn._TRO_TRAILING('Fees by date'!$C$4:$C$1001),_xlfn._TRO_TRAILING('Fees by date'!$D$4:D$1001)),"")*Transformed_Data[[#This Row],[Stripe fee Allocation %]]} -> -78.2 | E14: =DATEVALUE(SUBSTITUTE(_xlfn.TEXTAFTER(Transformed_Data[[#This Row],[TabName]], " ", -3), " ", ", ", 2)) -> 45663 | F14: Clean December 2025 - Stripe data upload.xlsx | G14: Stripe data Jan 6 2025 | H14: Charge | J14: 46023 | K14: Invoice AWV4XVBZ-0009 | L14: 19550 | M14: 19550 | N14: 567.25 | O14: 18982.75 | P14: 2604-0400 Mclaughlin Matthew 08
C15: =Transformed_Data[[#This Row],[Amount]]/SUMIFS(Transformed_Data[Amount],Transformed_Data[Created],Transformed_Data[[#This Row],[Created]]) -> 0.61816406 | D15: {=IFERROR(_xlfn.XLOOKUP(Transformed_Data[[#This Row],[Created]],_xlfn._TRO_TRAILING('Fees by date'!$C$4:$C$1001),_xlfn._TRO_TRAILING('Fees by date'!$D$4:D$1001)),"")*Transformed_Data[[#This Row],[Stripe fee Allocation %]]} -> -126.6 | E15: =DATEVALUE(SUBSTITUTE(_xlfn.TEXTAFTER(Transformed_Data[[#This Row],[TabName]], " ", -3), " ", ", ", 2)) -> 45663 | F15: Clean December 2025 - Stripe data upload.xlsx | G15: Stripe data Jan 6 2025 | H15: Charge | J15: 46023 | K15: Invoice 3KK20IFV-0002 | L15: 31650 | M15: 31650 | N15: 1392.9 | O15: 30257.1 | P15: 2609-1700 Ward Sean 02
C16: =Transformed_Data[[#This Row],[Amount]]/SUMIFS(Transformed_Data[Amount],Transformed_Data[Created],Transformed_Data[[#This Row],[Created]]) -> 1 | D16: {=IFERROR(_xlfn.XLOOKUP(Transformed_Data[[#This Row],[Created]],_xlfn._TRO_TRAILING('Fees by date'!$C$4:$C$1001),_xlfn._TRO_TRAILING('Fees by date'!$D$4:D$1001)),"")*Transformed_Data[[#This Row],[Stripe fee Allocation %]]} -> 0 | E16: =DATEVALUE(SUBSTITUTE(_xlfn.TEXTAFTER(Transformed_Data[[#This Row],[TabName]], " ", -3), " ", ", ", 2)) -> 45811 | F16: Clean July 2025 - Stripe data upload.xlsx | G16: Stripe data Jun 3 2025 | H16: Charge | J16: 45800 | K16: Invoice 63B5033F-0005 | L16: 150 | M16: 150 | N16: 4.65 | O16: 145.35 | P16: 2507-0700 Roy Judith 02
C17: =Transformed_Data[[#This Row],[Amount]]/SUMIFS(Transformed_Data[Amount],Transformed_Data[Created],Transformed_Data[[#This Row],[Created]]) -> 0.44342508 | D17: {=IFERROR(_xlfn.XLOOKUP(Transformed_Data[[#This Row],[Created]],_xlfn._TRO_TRAILING('Fees by date'!$C$4:$C$1001),_xlfn._TRO_TRAILING('Fees by date'!$D$4:D$1001)),"")*Transformed_Data[[#This Row],[Stripe fee Allocation %]]} -> 0 | E17: =DATEVALUE(SUBSTITUTE(_xlfn.TEXTAFTER(Transformed_Data[[#This Row],[TabName]], " ", -3), " ", ", ", 2)) -> 45811 | F17: Clean July 2025 - Stripe data upload.xlsx | G17: Stripe data Jun 3 2025 | H17: Charge | J17: 45803 | K17: Invoice E60A20BC-0002 | L17: 11600 | M17: 11600 | N17: 394.7 | O17: 11205.3 | P17: 2508-1000 Riddle Jean 02
C18: =Transformed_Data[[#This Row],[Amount]]/SUMIFS(Transformed_Data[Amount],Transformed_Data[Created],Transformed_Data[[#This Row],[Created]]) -> 0.032492355 | D18: {=IFERROR(_xlfn.XLOOKUP(Transformed_Data[[#This Row],[Created]],_xlfn._TRO_TRAILING('Fees by date'!$C$4:$C$1001),_xlfn._TRO_TRAILING('Fees by date'!$D$4:D$1001)),"")*Transformed_Data[[#This Row],[Stripe fee Allocation %]]} -> 0 | E18: =DATEVALUE(SUBSTITUTE(_xlfn.TEXTAFTER(Transformed_Data[[#This Row],[TabName]], " ", -3), " ", ", ", 2)) -> 45811 | F18: Clean July 2025 - Stripe data upload.xlsx | G18: Stripe data Jun 3 2025 | H18: Charge | J18: 45803 | K18: Invoice 3C7E2175-0004 | L18: 850 | M18: 850 | N18: 29.2 | O18: 820.8 | P18: 2508-0500 Gutierrez Gregory 02
C19: =Transformed_Data[[#This Row],[Amount]]/SUMIFS(Transformed_Data[Amount],Transformed_Data[Created],Transformed_Data[[#This Row],[Created]]) -> 0.021980122 | D19: {=IFERROR(_xlfn.XLOOKUP(Transformed_Data[[#This Row],[Created]],_xlfn._TRO_TRAILING('Fees by date'!$C$4:$C$1001),_xlfn._TRO_TRAILING('Fees by date'!$D$4:D$1001)),"")*Transformed_Data[[#This Row],[Stripe fee Allocation %]]} -> 0 | E19: =DATEVALUE(SUBSTITUTE(_xlfn.TEXTAFTER(Transformed_Data[[#This Row],[TabName]], " ", -3), " ", ", ", 2)) -> 45811 | F19: Clean July 2025 - Stripe data upload.xlsx | G19: Stripe data Jun 3 2025 | H19: Charge | J19: 45803 | K19: Invoice 2C268179-0003 | L19: 575 | M19: 575 | N19: 16.98 | O19: 558.02 | P19: 2507-1200 Herrera Kathryn 05
... C66: =Transformed_Data[[#This Row],[Amount]]/SUMIFS(Transformed_Data[Amount],Transformed_Data[Created],Transformed_Data[[#This Row],[Created]]) -> 0.30287949 | D66: {=IFERROR(_xlfn.XLOOKUP(Transformed_Data[[#This Row],[Created]],_xlfn._TRO_TRAILING('Fees by date'!$C$4:$C$1001),_xlfn._TRO_TRAILING('Fees by date'!$D$4:D$1001)),"")*Transformed_Data[[#This Row],[Stripe fee Allocation %]]} -> 0 | E66: =DATEVALUE(SUBSTITUTE(_xlfn.TEXTAFTER(Transformed_Data[[#This Row],[TabName]], " ", -3), " ", ", ", 2)) -> 45818 | F66: Clean June 2025 - Stripe data upload.xlsx | G66: Stripe data Jun 10 2025 | H66: Charge | J66: 45814 | K66: Invoice LTH0AMWD-0001 | L66: 21300 | M66: 21300 | N66: 724.5 | O66: 20575.5 | P66: 2512-1700 Rodriguez Natalie 02
C67: =Transformed_Data[[#This Row],[Amount]]/SUMIFS(Transformed_Data[Amount],Transformed_Data[Created],Transformed_Data[[#This Row],[Created]]) -> 0.03768219 | D67: {=IFERROR(_xlfn.XLOOKUP(Transformed_Data[[#This Row],[Created]],_xlfn._TRO_TRAILING('Fees by date'!$C$4:$C$1001),_xlfn._TRO_TRAILING('Fees by date'!$D$4:D$1001)),"")*Transformed_Data[[#This Row],[Stripe fee Allocation %]]} -> 0 | E67: =DATEVALUE(SUBSTITUTE(_xlfn.TEXTAFTER(Transformed_Data[[#This Row],[TabName]], " ", -3), " ", ", ", 2)) -> 45818 | F67: Clean June 2025 - Stripe data upload.xlsx | G67: Stripe data Jun 10 2025 | H67: Charge | I67: ch_3RWzymKYhcjsD9Cb1an45uCU | J67: 45814 | K67: Invoice 3E783304-0030 | L67: 2650 | M67: 2650 | N67: 77.15 | O67: 2572.85 | P67: 2701-0106 Spencer Glen 01
C68: =Transformed_Data[[#This Row],[Amount]]/SUMIFS(Transformed_Data[Amount],Transformed_Data[Created],Transformed_Data[[#This Row],[Created]]) -> 0.62175613 | D68: {=IFERROR(_xlfn.XLOOKUP(Transformed_Data[[#This Row],[Created]],_xlfn._TRO_TRAILING('Fees by date'!$C$4:$C$1001),_xlfn._TRO_TRAILING('Fees by date'!$D$4:D$1001)),"")*Transformed_Data[[#This Row],[Stripe fee Allocation %]]} -> 0 | E68: =DATEVALUE(SUBSTITUTE(_xlfn.TEXTAFTER(Transformed_Data[[#This Row],[TabName]], " ", -3), " ", ", ", 2)) -> 45818 | F68: Clean June 2025 - Stripe data upload.xlsx | G68: Stripe data Jun 10 2025 | H68: Charge | I68: py_3RWu46KYhcjsD9Cb1piPxSKC | J68: 45814 | K68: Invoice A70DA778-0007 | L68: 43725 | M68: 43725 | N68: 8 | O68: 43717 | P68: 2604-0300 Lozano Javier 05
C69: =Transformed_Data[[#This Row],[Amount]]/SUMIFS(Transformed_Data[Amount],Transformed_Data[Created],Transformed_Data[[#This Row],[Created]]) -> 1 | D69: {=IFERROR(_xlfn.XLOOKUP(Transformed_Data[[#This Row],[Created]],_xlfn._TRO_TRAILING('Fees by date'!$C$4:$C$1001),_xlfn._TRO_TRAILING('Fees by date'!$D$4:D$1001)),"")*Transformed_Data[[#This Row],[Stripe fee Allocation %]]} -> 0 | E69: =DATEVALUE(SUBSTITUTE(_xlfn.TEXTAFTER(Transformed_Data[[#This Row],[TabName]], " ", -3), " ", ", ", 2)) -> 45825 | F69: Clean June 2025 - Stripe data upload.xlsx | G69: Stripe data Jun 17 2025 | H69: Charge | I69: ch_3RWCGvKYhcjsD9Cb0juEc6Ae | J69: 45815 | K69: Invoice B1QHD97C-0003 | L69: 38600 | M69: 38600 | N69: 1119.7 | O69: 37480.3 | P69: 2609-0600 Matthews Michael 02
C70: =Transformed_Data[[#This Row],[Amount]]/SUMIFS(Transformed_Data[Amount],Transformed_Data[Created],Transformed_Data[[#This Row],[Created]]) -> 1 | D70: {=IFERROR(_xlfn.XLOOKUP(Transformed_Data[[#This Row],[Created]],_xlfn._TRO_TRAILING('Fees by date'!$C$4:$C$1001),_xlfn._TRO_TRAILING('Fees by date'!$D$4:D$1001)),"")*Transformed_Data[[#This Row],[Stripe fee Allocation %]]} -> 0 | E70: =DATEVALUE(SUBSTITUTE(_xlfn.TEXTAFTER(Transformed_Data[[#This Row],[TabName]], " ", -3), " ", ", ", 2)) -> 45825 | F70: Clean June 2025 - Stripe data upload.xlsx | G70: Stripe data Jun 17 2025 | H70: Charge | I70: ch_3RWzdXKYhcjsD9Cb1rigzfPB | J70: 45816 | K70: Invoice 00BF4B89-0052 | L70: 2650 | M70: 2650 | N70: 77.15 | O70: 2572.85 | P70: 2605-0800 Padilla John 04
C71: =Transformed_Data[[#This Row],[Amount]]/SUMIFS(Transformed_Data[Amount],Transformed_Data[Created],Transformed_Data[[#This Row],[Created]]) -> 0.00053324485 | D71: {=IFERROR(_xlfn.XLOOKUP(Transformed_Data[[#This Row],[Created]],_xlfn._TRO_TRAILING('Fees by date'!$C$4:$C$1001),_xlfn._TRO_TRAILING('Fees by date'!$D$4:D$1001)),"")*Transformed_Data[[#This Row],[Stripe fee Allocation %]]} -> 0 | E71: =DATEVALUE(SUBSTITUTE(_xlfn.TEXTAFTER(Transformed_Data[[#This Row],[TabName]], " ", -3), " ", ", ", 2)) -> 45825 | F71: Clean June 2025 - Stripe data upload.xlsx | G71: Stripe data Jun 17 2025 | H71: Charge | I71: ch_3RY1UgKYhcjsD9Cb1hXSzzaI | J71: 45817 | K71: Invoice D9BBE4D2-0003 | L71: 45 | M71: 45 | N71: 1.61 | O71: 43.39 | P71: 2507-2200 Johns Christine 01
C72: =Transformed_Data[[#This Row],[Amount]]/SUMIFS(Transformed_Data[Amount],Transformed_Data[Created],Transformed_Data[[#This Row],[Created]]) -> 0.014279112 | D72: {=IFERROR(_xlfn.XLOOKUP(Transformed_Data[[#This Row],[Created]],_xlfn._TRO_TRAILING('Fees by date'!$C$4:$C$1001),_xlfn._TRO_TRAILING('Fees by date'!$D$4:D$1001)),"")*Transformed_Data[[#This Row],[Stripe fee Allocation %]]} -> 0 | E72: =DATEVALUE(SUBSTITUTE(_xlfn.TEXTAFTER(Transformed_Data[[#This Row],[TabName]], " ", -3), " ", ", ", 2)) -> 45825 | F72: Clean June 2025 - Stripe data upload.xlsx | G72: Stripe data Jun 17 2025 | H72: Charge | I72: ch_3RY4nBKYhcjsD9Cb1f13q1re | J72: 45817 | K72: Invoice AEF6662B-0006 | L72: 1205 | M72: 1205 | N72: 35.25 | O72: 1169.75 | P72: 2506-0700 Gonzalez Alec 04
C73: =Transformed_Data[[#This Row],[Amount]]/SUMIFS(Transformed_Data[Amount],Transformed_Data[Created],Transformed_Data[[#This Row],[Created]]) -> 0.15824337 | D73: {=IFERROR(_xlfn.XLOOKUP(Transformed_Data[[#This Row],[Created]],_xlfn._TRO_TRAILING('Fees by date'!$C$4:$C$1001),_xlfn._TRO_TRAILING('Fees by date'!$D$4:D$1001)),"")*Transformed_Data[[#This Row],[Stripe fee Allocation %]]} -> 0 | E73: =DATEVALUE(SUBSTITUTE(_xlfn.TEXTAFTER(Transformed_Data[[#This Row],[TabName]], " ", -3), " ", ", ", 2)) -> 45825 | F73: Clean June 2025 - Stripe data upload.xlsx | G73: Stripe data Jun 17 2025 | H73: Charge | I73: ch_3RY5h6KYhcjsD9Cb1KxkG5ra | J73: 45817 | K73: Invoice AEF6662B-0007 | L73: 13354 | M73: 13354 | N73: 387.57 | O73: 12966.43 | P73: 2506-0700 Gonzalez Alec 04
C74: =Transformed_Data[[#This Row],[Amount]]/SUMIFS(Transformed_Data[Amount],Transformed_Data[Created],Transformed_Data[[#This Row],[Created]]) -> 0.084785932 | D74: {=IFERROR(_xlfn.XLOOKUP(Transformed_Data[[#This Row],[Created]],_xlfn._TRO_TRAILING('Fees by date'!$C$4:$C$1001),_xlfn._TRO_TRAILING('Fees by date'!$D$4:D$1001)),"")*Transformed_Data[[#This Row],[Stripe fee Allocation %]]} -> 0 | E74: =DATEVALUE(SUBSTITUTE(_xlfn.TEXTAFTER(Transformed_Data[[#This Row],[TabName]], " ", -3), " ", ", ", 2)) -> 45825 | F74: Clean June 2025 - Stripe data upload.xlsx | G74: Stripe data Jun 17 2025 | H74: Charge | I74: ch_3RY18RKYhcjsD9Cb0BHvFTEn | J74: 45817 | K74: Invoice CE119675-0014 | L74: 7155 | M74: 7155 | N74: 207.8 | O74: 6947.2 | P74: 2701-0104 Gardner Sarah 01
C75: =Transformed_Data[[#This Row],[Amount]]/SUMIFS(Transformed_Data[Amount],Transformed_Data[Created],Transformed_Data[[#This Row],[Created]]) -> 0.50954508 | D75: {=IFERROR(_xlfn.XLOOKUP(Transformed_Data[[#This Row],[Created]],_xlfn._TRO_TRAILING('Fees by date'!$C$4:$C$1001),_xlfn._TRO_TRAILING('Fees by date'!$D$4:D$1001)),"")*Transformed_Data[[#This Row],[Stripe fee Allocation %]]} -> 0 | E75: =DATEVALUE(SUBSTITUTE(_xlfn.TEXTAFTER(Transformed_Data[[#This Row],[TabName]], " ", -3), " ", ", ", 2)) -> 45825 | F75: Clean June 2025 - Stripe data upload.xlsx | G75: Stripe data Jun 17 2025 | H75: Charge | I75: ch_3RWtMCKYhcjsD9Cb1RywZ1W9 | J75: 45817 | K75: Invoice 6C318D0E-0007 | L75: 43000 | M75: 43000 | N75: 1247.3 | O75: 41752.7 | P75: 2508-1101 Moore Brian 02
C76: =Transformed_Data[[#This Row],[Amount]]/SUMIFS(Transformed_Data[Amount],Transformed_Data[Created],Transformed_Data[[#This Row],[Created]]) -> 0.11849886 | D76: {=IFERROR(_xlfn.XLOOKUP(Transformed_Data[[#This Row],[Created]],_xlfn._TRO_TRAILING('Fees by date'!$C$4:$C$1001),_xlfn._TRO_TRAILING('Fees by date'!$D$4:D$1001)),"")*Transformed_Data[[#This Row],[Stripe fee Allocation %]]} -> 0 | E76: =DATEVALUE(SUBSTITUTE(_xlfn.TEXTAFTER(Transformed_Data[[#This Row],[TabName]], " ", -3), " ", ", ", 2)) -> 45825 | F76: Clean June 2025 - Stripe data upload.xlsx | G76: Stripe data Jun 17 2025 | H76: Charge | I76: ch_3RWtQBKYhcjsD9Cb0vFZFkgR | J76: 45817 | K76: Invoice 6C318D0E-0008 | L76: 10000 | M76: 10000 | N76: 290.3 | O76: 9709.7 | P76: 2508-1101 Moore Brian 02
C77: =Transformed_Data[[#This Row],[Amount]]/SUMIFS(Transformed_Data[Amount],Transformed_Data[Created],Transformed_Data[[#This Row],[Created]]) -> 0.1141144 | D77: {=IFERROR(_xlfn.XLOOKUP(Transformed_Data[[#This Row],[Created]],_xlfn._TRO_TRAILING('Fees by date'!$C$4:$C$1001),_xlfn._TRO_TRAILING('Fees by date'!$D$4:D$1001)),"")*Transformed_Data[[#This Row],[Stripe fee Allocation %]]} -> 0 | E77: =DATEVALUE(SUBSTITUTE(_xlfn.TEXTAFTER(Transformed_Data[[#This Row],[TabName]], " ", -3), " ", ", ", 2)) -> 45825 | F77: Clean June 2025 - Stripe data upload.xlsx | G77: Stripe data Jun 17 2025 | H77: Charge | I77: ch_3RWtSzKYhcjsD9Cb1yok0fD5 | J77: 45817 | K77: Invoice 6C318D0E-0009 | L77: 9630 | M77: 9630 | N77: 279.57 | O77: 9350.43 | P77: 2508-1101 Moore Brian 02
C78: =Transformed_Data[[#This Row],[Amount]]/SUMIFS(Transformed_Data[Amount],Transformed_Data[Created],Transformed_Data[[#This Row],[Created]]) -> 0.011416862 | D78: {=IFERROR(_xlfn.XLOOKUP(Transformed_Data[[#This Row],[Created]],_xlfn._TRO_TRAILING('Fees by date'!$C$4:$C$1001),_xlfn._TRO_TRAILING('Fees by date'!$D$4:D$1001)),"")*Transformed_Data[[#This Row],[Stripe fee Allocation %]]} -> 0 | E78: =DATEVALUE(SUBSTITUTE(_xlfn.TEXTAFTER(Transformed_Data[[#This Row],[TabName]], " ", -3), " ", ", ", 2)) -> 45825 | F78: Clean June 2025 - Stripe data upload.xlsx | G78: Stripe data Jun 17 2025 | H78: Charge | I78: ch_3RY0fDKYhcjsD9Cb0uE52oJk | J78: 45818 | K78: Invoice 6DD48EDC-0004 | L78: 195 | M78: 195 | N78: 5.96 | O78: 189.04 | P78: 2506-2200 Harris Elijah 02
... C82: =Transformed_Data[[#This Row],[Amount]]/SUMIFS(Transformed_Data[Amount],Transformed_Data[Created],Transformed_Data[[#This Row],[Created]]) -> 0.017564403 | D82: {=IFERROR(_xlfn.XLOOKUP(Transformed_Data[[#This Row],[Created]],_xlfn._TRO_TRAILING('Fees by date'!$C$4:$C$1001),_xlfn._TRO_TRAILING('Fees by date'!$D$4:D$1001)),"")*Transformed_Data[[#This Row],[Stripe fee Allocation %]]} -> 0 | E82: =DATEVALUE(SUBSTITUTE(_xlfn.TEXTAFTER(Transformed_Data[[#This Row],[TabName]], " ", -3), " ", ", ", 2)) -> 45825 | F82: Clean June 2025 - Stripe data upload.xlsx | G82: Stripe data Jun 17 2025 | H82: Charge | I82: ch_3RYTbgKYhcjsD9Cb0N8wnLX9 | J82: 45818 | K82: Invoice 38E608D8-0008 | L82: 300 | M82: 300 | N82: 13.5 | O82: 286.5 | P82: 2507-0100 Cain Gregory 06
C83: =Transformed_Data[[#This Row],[Amount]]/SUMIFS(Transformed_Data[Amount],Transformed_Data[Created],Transformed_Data[[#This Row],[Created]]) -> 0.39552951 | D83: {=IFERROR(_xlfn.XLOOKUP(Transformed_Data[[#This Row],[Created]],_xlfn._TRO_TRAILING('Fees by date'!$C$4:$C$1001),_xlfn._TRO_TRAILING('Fees by date'!$D$4:D$1001)),"")*Transformed_Data[[#This Row],[Stripe fee Allocation %]]} -> -101.57198 | E83: =DATEVALUE(SUBSTITUTE(_xlfn.TEXTAFTER(Transformed_Data[[#This Row],[TabName]], " ", -3), " ", ", ", 2)) -> 45825 | F83: Clean June 2025 - Stripe data upload.xlsx | G83: Stripe data Jun 17 2025 | H83: Charge | J83: 45819 | K83: Invoice 72F687AD-0002 | L83: 20314 | M83: 20314 | N83: 589.41 | O83: 19724.59 | P83: 2508-0800 Golden Paula & Gabriella 02
C84: =Transformed_Data[[#This Row],[Amount]]/SUMIFS(Transformed_Data[Amount],Transformed_Data[Created],Transformed_Data[[#This Row],[Created]]) -> 0.051597578 | D84: {=IFERROR(_xlfn.XLOOKUP(Transformed_Data[[#This Row],[Created]],_xlfn._TRO_TRAILING('Fees by date'!$C$4:$C$1001),_xlfn._TRO_TRAILING('Fees by date'!$D$4:D$1001)),"")*Transformed_Data[[#This Row],[Stripe fee Allocation %]]} -> -13.250258 | E84: =DATEVALUE(SUBSTITUTE(_xlfn.TEXTAFTER(Transformed_Data[[#This Row],[TabName]], " ", -3), " ", ", ", 2)) -> 45825 | F84: Clean June 2025 - Stripe data upload.xlsx | G84: Stripe data Jun 17 2025 | H84: Charge | J84: 45819 | K84: Invoice EASXMNYO-0001 | L84: 2650 | M84: 2650 | N84: 77.15 | O84: 2572.85 | P84: 2701-0110 Mendoza Kelly 01
C85: =Transformed_Data[[#This Row],[Amount]]/SUMIFS(Transformed_Data[Amount],Transformed_Data[Created],Transformed_Data[[#This Row],[Created]]) -> 0.0040888647 | D85: {=IFERROR(_xlfn.XLOOKUP(Transformed_Data[[#This Row],[Created]],_xlfn._TRO_TRAILING('Fees by date'!$C$4:$C$1001),_xlfn._TRO_TRAILING('Fees by date'!$D$4:D$1001)),"")*Transformed_Data[[#This Row],[Stripe fee Allocation %]]} -> -1.0500204 | E85: =DATEVALUE(SUBSTITUTE(_xlfn.TEXTAFTER(Transformed_Data[[#This Row],[TabName]], " ", -3), " ", ", ", 2)) -> 45825 | F85: Clean June 2025 - Stripe data upload.xlsx | G85: Stripe data Jun 17 2025 | H85: Charge | J85: 45819 | K85: Invoice E60A20BC-0003 | L85: 210 | M85: 210 | N85: 6.39 | O85: 203.61 | P85: 2508-1000 Riddle Jean 02
C86: =Transformed_Data[[#This Row],[Amount]]/SUMIFS(Transformed_Data[Amount],Transformed_Data[Created],Transformed_Data[[#This Row],[Created]]) -> 0.052279055 | D86: {=IFERROR(_xlfn.XLOOKUP(Transformed_Data[[#This Row],[Created]],_xlfn._TRO_TRAILING('Fees by date'!$C$4:$C$1001),_xlfn._TRO_TRAILING('Fees by date'!$D$4:D$1001)),"")*Transformed_Data[[#This Row],[Stripe fee Allocation %]]} -> -13.425261 | E86: =DATEVALUE(SUBSTITUTE(_xlfn.TEXTAFTER(Transformed_Data[[#This Row],[TabName]], " ", -3), " ", ", ", 2)) -> 45825 | F86: Clean June 2025 - Stripe data upload.xlsx | G86: Stripe data Jun 17 2025 | H86: Charge | J86: 45819 | K86: Invoice 0CB29726-0005 | L86: 2685 | M86: 2685 | N86: 78.17 | O86: 2606.83 | P86: 2701-0102 Hernandez Reginald 01
C87: =Transformed_Data[[#This Row],[Amount]]/SUMIFS(Transformed_Data[Amount],Transformed_Data[Created],Transformed_Data[[#This Row],[Created]]) -> 0.0040888647 | D87: {=IFERROR(_xlfn.XLOOKUP(Transformed_Data[[#This Row],[Created]],_xlfn._TRO_TRAILING('Fees by date'!$C$4:$C$1001),_xlfn._TRO_TRAILING('Fees by date'!$D$4:D$1001)),"")*Transformed_Data[[#This Row],[Stripe fee Allocation %]]} -> -1.0500204 | E87: =DATEVALUE(SUBSTITUTE(_xlfn.TEXTAFTER(Transformed_Data[[#This Row],[TabName]], " ", -3), " ", ", ", 2)) -> 45825 | F87: Clean June 2025 - Stripe data upload.xlsx | G87: Stripe data Jun 17 2025 | H87: Charge | J87: 45819 | K87: Invoice AB18C19A-0006 | L87: 210 | M87: 210 | N87: 6.39 | O87: 203.61 | P87: 2508-1000 Riddle Daniel 02
C88: =Transformed_Data[[#This Row],[Amount]]/SUMIFS(Transformed_Data[Amount],Transformed_Data[Created],Transformed_Data[[#This Row],[Created]]) -> 0.49241613 | D88: {=IFERROR(_xlfn.XLOOKUP(Transformed_Data[[#This Row],[Created]],_xlfn._TRO_TRAILING('Fees by date'!$C$4:$C$1001),_xlfn._TRO_TRAILING('Fees by date'!$D$4:D$1001)),"")*Transformed_Data[[#This Row],[Stripe fee Allocation %]]} -> -126.45246 | E88: =DATEVALUE(SUBSTITUTE(_xlfn.TEXTAFTER(Transformed_Data[[#This Row],[TabName]], " ", -3), " ", ", ", 2)) -> 45825 | F88: Clean June 2025 - Stripe data upload.xlsx | G88: Stripe data Jun 17 2025 | H88: Charge | J88: 45819 | K88: Invoice 81546724-0003 | L88: 25290 | M88: 25290 | N88: 8 | O88: 25282 | P88: 2509-2000 Allen Eugene & Kimberly 02
C89: =Transformed_Data[[#This Row],[Amount]]/SUMIFS(Transformed_Data[Amount],Transformed_Data[Created],Transformed_Data[[#This Row],[Created]]) -> 0.038287504 | D89: {=IFERROR(_xlfn.XLOOKUP(Transformed_Data[[#This Row],[Created]],_xlfn._TRO_TRAILING('Fees by date'!$C$4:$C$1001),_xlfn._TRO_TRAILING('Fees by date'!$D$4:D$1001)),"")*Transformed_Data[[#This Row],[Stripe fee Allocation %]]} -> -5.5 | E89: =DATEVALUE(SUBSTITUTE(_xlfn.TEXTAFTER(Transformed_Data[[#This Row],[TabName]], " ", -3), " ", ", ", 2)) -> 45825 | F89: Clean June 2025 - Stripe data upload.xlsx | G89: Stripe data Jun 17 2025 | H89: Charge | J89: 45820 | K89: Invoice UWWD93LB-0001 | L89: 1100 | M89: 1100 | N89: 32.2 | O89: 1067.8 | P89: 2505-1200 Rodriguez Brenda 02 | Q89: rUn_sYO3LXUk92CVf3 | R89: jacksonjennifer@gmail.com | S89: Brenda Rodriguez
C90: =Transformed_Data[[#This Row],[Amount]]/SUMIFS(Transformed_Data[Amount],Transformed_Data[Created],Transformed_Data[[#This Row],[Created]]) -> 0.94813784 | D90: {=IFERROR(_xlfn.XLOOKUP(Transformed_Data[[#This Row],[Created]],_xlfn._TRO_TRAILING('Fees by date'!$C$4:$C$1001),_xlfn._TRO_TRAILING('Fees by date'!$D$4:D$1001)),"")*Transformed_Data[[#This Row],[Stripe fee Allocation %]]} -> -136.2 | E90: =DATEVALUE(SUBSTITUTE(_xlfn.TEXTAFTER(Transformed_Data[[#This Row],[TabName]], " ", -3), " ", ", ", 2)) -> 45825 | F90: Clean June 2025 - Stripe data upload.xlsx | G90: Stripe data Jun 17 2025 | H90: Charge | J90: 45820 | K90: Invoice SYLM9C6Q-0001 | L90: 27240 | M90: 27240 | N90: 926.46 | O90: 26313.54 | P90: 2602-0100 Carlson Jessica 04 | Q90: TYg_WdlRkenpmw84Nw | R90: waltersjon@hotmail.com | S90: Jessica Carlson
...

Sheet Data
J2: =SUBTOTAL(9,Data[Amount]) -> 12126039 | N2: =SUBTOTAL(9,Data[Fees]) -> 279477.71
C3: =COLUMN(C3)-2 -> 1 | D3: =COLUMN(D3)-2 -> 2 | E3: =COLUMN(E3)-2 -> 3 | F3: =COLUMN(F3)-2 -> 4 | G3: =COLUMN(G3)-2 -> 5 | H3: =COLUMN(H3)-2 -> 6 | I3: =COLUMN(I3)-2 -> 7 | J3: =COLUMN(J3)-2 -> 8 | ... Z3: =COLUMN(Z3)-2 -> 24
C4: Fees-Date | D4: Worksheet | E4: TabName | F4: Type | G4: ID | H4: Created | I4: Description | J4: Amount | K4: Currency | L4: Column1 | M4: Converted Amount | N4: Fees | O4: Net | P4: Converted Currency | Q4: Details | R4: Customer ID | S4: Customer Email | T4: rs_document (metadata) | U4: rs_component (metadata) | V4: rs_signer_name (metadata) | W4: rs_signer_email (metadata) | X4: card_last4 (metadata) | Y4: Trip name or design fee?
C5: =IFERROR(IF(ISNUMBER(FIND("Invoicing",Data[[#This Row],[Description]])),DATEVALUE(MID(Data[[#This Row],[Description]], FIND("(",Data[[#This Row],[Description]])+1, FIND(")",Data[[#This Row],[Description]]) - FIND("(", Data[[#This Row],[Description]]) - 1)),""), "") | D5: Clean July 2025 - Stripe data upload.xlsx | E5: Stripe data Jun 3 2025 | F5: Charge | G5: ch_3RRra1KYhcjsD9Cb1uejIAyZ | H5: 45800 | I5: Invoice 63B5033F-0005 | J5: 150 | K5: usd | L5: =Data[[#This Row],[Fees]]/Data[[#This Row],[Converted Amount]] -> 0.031 | M5: 150 | N5: 4.65 | O5: 145.35 | P5: usd | Q5: 2507-0700 Roy Judith 02
C6: =IFERROR(IF(ISNUMBER(FIND("Invoicing",Data[[#This Row],[Description]])),DATEVALUE(MID(Data[[#This Row],[Description]], FIND("(",Data[[#This Row],[Description]])+1, FIND(")",Data[[#This Row],[Description]]) - FIND("(", Data[[#This Row],[Description]]) - 1)),""), "") | D6: Clean July 2025 - Stripe data upload.xlsx | E6: Stripe data Jun 3 2025 | F6: Charge | G6: ch_3RSu47KYhcjsD9Cb0kkHXUMr | H6: 45803 | I6: Invoice E60A20BC-0002 | J6: 11600 | K6: usd | L6: =Data[[#This Row],[Fees]]/Data[[#This Row],[Converted Amount]] -> 0.034025862 | M6: 11600 | N6: 394.7 | O6: 11205.3 | P6: usd | Q6: 2508-1000 Riddle Jean 02
C7: =IFERROR(IF(ISNUMBER(FIND("Invoicing",Data[[#This Row],[Description]])),DATEVALUE(MID(Data[[#This Row],[Description]], FIND("(",Data[[#This Row],[Description]])+1, FIND(")",Data[[#This Row],[Description]]) - FIND("(", Data[[#This Row],[Description]]) - 1)),""), "") | D7: Clean July 2025 - Stripe data upload.xlsx | E7: Stripe data Jun 3 2025 | F7: Charge | G7: ch_3RSv3pKYhcjsD9Cb0G0qgVRT | H7: 45803 | I7: Invoice 3C7E2175-0004 | J7: 850 | K7: usd | L7: =Data[[#This Row],[Fees]]/Data[[#This Row],[Converted Amount]] -> 0.034352941 | M7: 850 | N7: 29.2 | O7: 820.8 | P7: usd | Q7: 2508-0500 Gutierrez Gregory 02
C8: =IFERROR(IF(ISNUMBER(FIND("Invoicing",Data[[#This Row],[Description]])),DATEVALUE(MID(Data[[#This Row],[Description]], FIND("(",Data[[#This Row],[Description]])+1, FIND(")",Data[[#This Row],[Description]]) - FIND("(", Data[[#This Row],[Description]]) - 1)),""), "") | D8: Clean July 2025 - Stripe data upload.xlsx | E8: Stripe data Jun 3 2025 | F8: Charge | G8: ch_3RQQWYKYhcjsD9Cb10KjoUNV | H8: 45803 | I8: Invoice 2C268179-0003 | J8: 575 | K8: usd | L8: =Data[[#This Row],[Fees]]/Data[[#This Row],[Converted Amount]] -> 0.029530435 | M8: 575 | N8: 16.98 | O8: 558.02 | P8: usd | Q8: 2507-1200 Herrera Kathryn 05
C9: =IFERROR(IF(ISNUMBER(FIND("Invoicing",Data[[#This Row],[Description]])),DATEVALUE(MID(Data[[#This Row],[Description]], FIND("(",Data[[#This Row],[Description]])+1, FIND(")",Data[[#This Row],[Description]]) - FIND("(", Data[[#This Row],[Description]]) - 1)),""), "") | D9: Clean July 2025 - Stripe data upload.xlsx | E9: Stripe data Jun 3 2025 | F9: Charge | G9: ch_3RSxhBKYhcjsD9Cb1oXP0yJv | H9: 45803 | I9: Invoice FA88B26B-0007 | J9: 55 | K9: usd | L9: =Data[[#This Row],[Fees]]/Data[[#This Row],[Converted Amount]] -> 0.034545455 | M9: 55 | N9: 1.9 | O9: 53.1 | P9: usd | Q9: 2505-1100 Gay Sean 04
C10: =IFERROR(IF(ISNUMBER(FIND("Invoicing",Data[[#This Row],[Description]])),DATEVALUE(MID(Data[[#This Row],[Description]], FIND("(",Data[[#This Row],[Description]])+1, FIND(")",Data[[#This Row],[Description]]) - FIND("(", Data[[#This Row],[Description]]) - 1)),""), "") | D10: Clean July 2025 - Stripe data upload.xlsx | E10: Stripe data Jun 3 2025 | F10: Refund | G10: ch_3R15RTKYhcjsD9Cb1TTAIDZh | H10: 45803 | I10: Invoice B88098CA-0002 | J10: -1530.5 | K10: usd | L10: =Data[[#This Row],[Fees]]/Data[[#This Row],[Converted Amount]] -> 0 | M10: -1530.5 | N10: 0 | O10: -1530.5 | P10: usd | Q10: 2505-0600 Nolan Angela 02
C11: =IFERROR(IF(ISNUMBER(FIND("Invoicing",Data[[#This Row],[Description]])),DATEVALUE(MID(Data[[#This Row],[Description]], FIND("(",Data[[#This Row],[Description]])+1, FIND(")",Data[[#This Row],[Description]]) - FIND("(", Data[[#This Row],[Description]]) - 1)),""), "") | D11: Clean July 2025 - Stripe data upload.xlsx | E11: Stripe data Jun 3 2025 | F11: Refund | G11: ch_3R16nXKYhcjsD9Cb1XhftLPC | H11: 45803 | I11: Invoice 3F9F2C43-0002 | J11: -1530.5 | K11: usd | L11: =Data[[#This Row],[Fees]]/Data[[#This Row],[Converted Amount]] -> 0 | M11: -1530.5 | N11: 0 | O11: -1530.5 | P11: usd | Q11: 2505-0601 Hogan Emily 02
C12: =IFERROR(IF(ISNUMBER(FIND("Invoicing",Data[[#This Row],[Description]])),DATEVALUE(MID(Data[[#This Row],[Description]], FIND("(",Data[[#This Row],[Description]])+1, FIND(")",Data[[#This Row],[Description]]) - FIND("(", Data[[#This Row],[Description]]) - 1)),""), "") | D12: Clean July 2025 - Stripe data upload.xlsx | E12: Stripe data Jun 3 2025 | F12: Charge | G12: ch_3RTK4sKYhcjsD9Cb1kLMiKvP | H12: 45804 | I12: Invoice 30FCD997-0006 | J12: 480 | K12: usd | L12: =Data[[#This Row],[Fees]]/Data[[#This Row],[Converted Amount]] -> 0.029625 | M12: 480 | N12: 14.22 | O12: 465.78 | P12: usd | Q12: 2507-0300 Jimenez Alexander 05
C13: =IFERROR(IF(ISNUMBER(FIND("Invoicing",Data[[#This Row],[Description]])),DATEVALUE(MID(Data[[#This Row],[Description]], FIND("(",Data[[#This Row],[Description]])+1, FIND(")",Data[[#This Row],[Description]]) - FIND("(", Data[[#This Row],[Description]]) - 1)),""), "") | D13: Clean July 2025 - Stripe data upload.xlsx | E13: Stripe data Jun 3 2025 | F13: Charge | G13: ch_3RSudCKYhcjsD9Cb1PgN8vkk | H13: 45804 | I13: Invoice C34E5031-0002 | J13: 5800 | K13: usd | L13: =Data[[#This Row],[Fees]]/Data[[#This Row],[Converted Amount]] -> 0.029051724 | M13: 5800 | N13: 168.5 | O13: 5631.5 | P13: usd | Q13: 2508-1001 Riddle Christine 01
C14: =IFERROR(IF(ISNUMBER(FIND("Invoicing",Data[[#This Row],[Description]])),DATEVALUE(MID(Data[[#This Row],[Description]], FIND("(",Data[[#This Row],[Description]])+1, FIND(")",Data[[#This Row],[Description]]) - FIND("(", Data[[#This Row],[Description]]) - 1)),""), "") | D14: Clean July 2025 - Stripe data upload.xlsx | E14: Stripe data Jun 3 2025 | F14: Charge | G14: ch_3RR9azKYhcjsD9Cb1jD0WRDD | H14: 45804 | I14: Invoice 69294CBA-0002 | J14: 11200 | K14: usd | L14: =Data[[#This Row],[Fees]]/Data[[#This Row],[Converted Amount]] -> 0.029026786 | M14: 11200 | N14: 325.1 | O14: 10874.9 | P14: usd | Q14: 2605-0300 Kelly Maria 05
C15: =IFERROR(IF(ISNUMBER(FIND("Invoicing",Data[[#This Row],[Description]])),DATEVALUE(MID(Data[[#This Row],[Description]], FIND("(",Data[[#This Row],[Description]])+1, FIND(")",Data[[#This Row],[Description]]) - FIND("(", Data[[#This Row],[Description]]) - 1)),""), "") | D15: Clean July 2025 - Stripe data upload.xlsx | E15: Stripe data Jun 3 2025 | F15: Charge | G15: ch_3RQONQKYhcjsD9Cb0SYLrKip | H15: 45804 | I15: Invoice DBB2E049-0004 | J15: 98750 | K15: usd | L15: =Data[[#This Row],[Fees]]/Data[[#This Row],[Converted Amount]] -> 0.029003038 | M15: 98750 | N15: 2864.05 | O15: 95885.95 | P15: usd | Q15: 2508-0600 Nguyen Laura 05
C16: =IFERROR(IF(ISNUMBER(FIND("Invoicing",Data[[#This Row],[Description]])),DATEVALUE(MID(Data[[#This Row],[Description]], FIND("(",Data[[#This Row],[Description]])+1, FIND(")",Data[[#This Row],[Description]]) - FIND("(", Data[[#This Row],[Description]]) - 1)),""), "") | D16: Clean July 2025 - Stripe data upload.xlsx | E16: Stripe data Jun 3 2025 | F16: Refund | G16: ch_3R109XKYhcjsD9Cb0x7ax5Us | H16: 45804 | I16: Invoice AD1EAD56-0011 | J16: -731 | K16: usd | L16: =Data[[#This Row],[Fees]]/Data[[#This Row],[Converted Amount]] -> 0 | M16: -731 | N16: 0 | O16: -731 | P16: usd | Q16: 2505-0201 Tate Shannon 01
... C69: =IFERROR(IF(ISNUMBER(FIND("Invoicing",Data[[#This Row],[Description]])),DATEVALUE(MID(Data[[#This Row],[Description]], FIND("(",Data[[#This Row],[Description]])+1, FIND(")",Data[[#This Row],[Description]]) - FIND("(", Data[[#This Row],[Description]]) - 1)),""), "") | D69: Clean June 2025 - Stripe data upload.xlsx | E69: Stripe data Jun 17 2025 | F69: Charge | G69: py_3RYiSaKYhcjsD9Cb0mLfG3GP | H69: 45819 | I69: Invoice 81546724-0003 | J69: 25290 | K69: usd | L69: =Data[[#This Row],[Fees]]/Data[[#This Row],[Converted Amount]] -> 0.00031633057 | M69: 25290 | N69: 8 | O69: 25282 | P69: usd | Q69: 2509-2000 Allen Eugene & Kimberly 02
C70: =IFERROR(IF(ISNUMBER(FIND("Invoicing",Data[[#This Row],[Description]])),DATEVALUE(MID(Data[[#This Row],[Description]], FIND("(",Data[[#This Row],[Description]])+1, FIND(")",Data[[#This Row],[Description]]) - FIND("(", Data[[#This Row],[Description]]) - 1)),""), "") -> 45819 | D70: Clean June 2025 - Stripe data upload.xlsx | E70: Stripe data Jun 17 2025 | F70: Stripe Fee | G70: finvp_1RYlIiKYhcjsD9Cb5pJVgAaZ | H70: 45819 | I70: Invoicing (2025-06-11): Invoicing Plus | J70: -101.57 | K70: usd | L70: =Data[[#This Row],[Fees]]/Data[[#This Row],[Converted Amount]] -> 0 | M70: -101.57 | N70: 0 | O70: -101.57 | P70: usd
C71: =IFERROR(IF(ISNUMBER(FIND("Invoicing",Data[[#This Row],[Description]])),DATEVALUE(MID(Data[[#This Row],[Description]], FIND("(",Data[[#This Row],[Description]])+1, FIND(")",Data[[#This Row],[Description]]) - FIND("(", Data[[#This Row],[Description]]) - 1)),""), "") -> 45819 | D71: Clean June 2025 - Stripe data upload.xlsx | E71: Stripe data Jun 17 2025 | F71: Stripe Fee | G71: finvp_1RYuE2KYhcjsD9CbIlGlbgZP | H71: 45819 | I71: Invoicing (2025-06-11): adjustment to Invoicing Plus | J71: -13.25 | K71: usd | L71: =Data[[#This Row],[Fees]]/Data[[#This Row],[Converted Amount]] -> 0 | M71: -13.25 | N71: 0 | O71: -13.25 | P71: usd
C72: =IFERROR(IF(ISNUMBER(FIND("Invoicing",Data[[#This Row],[Description]])),DATEVALUE(MID(Data[[#This Row],[Description]], FIND("(",Data[[#This Row],[Description]])+1, FIND(")",Data[[#This Row],[Description]]) - FIND("(", Data[[#This Row],[Description]]) - 1)),""), "") -> 45819 | D72: Clean June 2025 - Stripe data upload.xlsx | E72: Stripe data Jun 17 2025 | F72: Stripe Fee | G72: finvp_1RYyH6KYhcjsD9CbFgFGHOo6 | H72: 45819 | I72: Invoicing (2025-06-11): adjustment to Invoicing Plus | J72: -127.5 | K72: usd | L72: =Data[[#This Row],[Fees]]/Data[[#This Row],[Converted Amount]] -> 0 | M72: -127.5 | N72: 0 | O72: -127.5 | P72: usd
C73: =IFERROR(IF(ISNUMBER(FIND("Invoicing",Data[[#This Row],[Description]])),DATEVALUE(MID(Data[[#This Row],[Description]], FIND("(",Data[[#This Row],[Description]])+1, FIND(")",Data[[#This Row],[Description]]) - FIND("(", Data[[#This Row],[Description]]) - 1)),""), "") | D73: Clean June 2025 - Stripe data upload.xlsx | E73: Stripe data Jun 17 2025 | F73: Charge | G73: ch_3RYpbyKYhcjsD9Cb1BTSx3YL | H73: 45820 | I73: Invoice UWWD93LB-0001 | J73: 1100 | K73: usd | L73: =Data[[#This Row],[Fees]]/Data[[#This Row],[Converted Amount]] -> 0.029272727 | M73: 1100 | N73: 32.2 | O73: 1067.8 | P73: usd | Q73: 2505-1200 Rodriguez Brenda 02 | R73: rUn_sYO3LXUk92CVf3 | S73: jacksonjennifer@gmail.com | T73: Brenda Rodriguez
C74: =IFERROR(IF(ISNUMBER(FIND("Invoicing",Data[[#This Row],[Description]])),DATEVALUE(MID(Data[[#This Row],[Description]], FIND("(",Data[[#This Row],[Description]])+1, FIND(")",Data[[#This Row],[Description]]) - FIND("(", Data[[#This Row],[Description]]) - 1)),""), "") | D74: Clean June 2025 - Stripe data upload.xlsx | E74: Stripe data Jun 17 2025 | F74: Charge | G74: ch_3RZFCRKYhcjsD9Cb1dC4mFqT | H74: 45820 | I74: Invoice SYLM9C6Q-0001 | J74: 27240 | K74: usd | L74: =Data[[#This Row],[Fees]]/Data[[#This Row],[Converted Amount]] -> 0.034011013 | M74: 27240 | N74: 926.46 | O74: 26313.54 | P74: usd | Q74: 2602-0100 Carlson Jessica 04 | R74: TYg_WdlRkenpmw84Nw | S74: waltersjon@hotmail.com | T74: Jessica Carlson
C75: =IFERROR(IF(ISNUMBER(FIND("Invoicing",Data[[#This Row],[Description]])),DATEVALUE(MID(Data[[#This Row],[Description]], FIND("(",Data[[#This Row],[Description]])+1, FIND(")",Data[[#This Row],[Description]]) - FIND("(", Data[[#This Row],[Description]]) - 1)),""), "") | D75: Clean June 2025 - Stripe data upload.xlsx | E75: Stripe data Jun 17 2025 | F75: Charge | G75: ch_3RYNRmKYhcjsD9Cb1Vd31wcp | H75: 45820 | I75: Invoice 96C023F2-0003 | J75: 390 | K75: usd | L75: =Data[[#This Row],[Fees]]/Data[[#This Row],[Converted Amount]] -> 0.029769231 | M75: 390 | N75: 11.61 | O75: 378.39 | P75: usd | Q75: 2507-1100 Barron Emma 02 | R75: hNr_xMJdwsEwSdoQ9R | S75: james28@yahoo.com | T75: Emma Barron
C76: =IFERROR(IF(ISNUMBER(FIND("Invoicing",Data[[#This Row],[Description]])),DATEVALUE(MID(Data[[#This Row],[Description]], FIND("(",Data[[#This Row],[Description]])+1, FIND(")",Data[[#This Row],[Description]]) - FIND("(", Data[[#This Row],[Description]]) - 1)),""), "") -> 45819 | D76: Clean June 2025 - Stripe data upload.xlsx | E76: Stripe data Jun 17 2025 | F76: Stripe Fee | G76: finvp_1RYzKOKYhcjsD9CbiTxLIX0w | H76: 45820 | I76: Invoicing (2025-06-11): adjustment to Invoicing Plus | J76: -13.43 | K76: usd | L76: =Data[[#This Row],[Fees]]/Data[[#This Row],[Converted Amount]] -> 0 | M76: -13.43 | N76: 0 | O76: -13.43 | P76: usd
C77: =IFERROR(IF(ISNUMBER(FIND("Invoicing",Data[[#This Row],[Description]])),DATEVALUE(MID(Data[[#This Row],[Description]], FIND("(",Data[[#This Row],[Description]])+1, FIND(")",Data[[#This Row],[Description]]) - FIND("(", Data[[#This Row],[Description]]) - 1)),""), "") -> 45819 | D77: Clean June 2025 - Stripe data upload.xlsx | E77: Stripe data Jun 17 2025 | F77: Stripe Fee | G77: finvp_1RZ4JxKYhcjsD9Cbg1rA78jC | H77: 45820 | I77: Invoicing (2025-06-11): adjustment to Invoicing Plus | J77: -1.05 | K77: usd | L77: =Data[[#This Row],[Fees]]/Data[[#This Row],[Converted Amount]] -> 0 | M77: -1.05 | N77: 0 | O77: -1.05 | P77: usd
C78: =IFERROR(IF(ISNUMBER(FIND("Invoicing",Data[[#This Row],[Description]])),DATEVALUE(MID(Data[[#This Row],[Description]], FIND("(",Data[[#This Row],[Description]])+1, FIND(")",Data[[#This Row],[Description]]) - FIND("(", Data[[#This Row],[Description]]) - 1)),""), "") -> 45820 | D78: Clean June 2025 - Stripe data upload.xlsx | E78: Stripe data Jun 17 2025 | F78: Stripe Fee | G78: finvp_1RZBvCKYhcjsD9Cbmgx2RwWT | H78: 45820 | I78: Invoicing (2025-06-12): Invoicing Plus | J78: -5.5 | K78: usd | L78: =Data[[#This Row],[Fees]]/Data[[#This Row],[Converted Amount]] -> 0 | M78: -5.5 | N78: 0 | O78: -5.5 | P78: usd
C79: =IFERROR(IF(ISNUMBER(FIND("Invoicing",Data[[#This Row],[Description]])),DATEVALUE(MID(Data[[#This Row],[Description]], FIND("(",Data[[#This Row],[Description]])+1, FIND(")",Data[[#This Row],[Description]]) - FIND("(", Data[[#This Row],[Description]]) - 1)),""), "") | D79: Clean June 2025 - Stripe data upload.xlsx | E79: Stripe data Jun 17 2025 | F79: Charge | G79: py_3RVwpFKYhcjsD9Cb0iMcOU7M | H79: 45821 | I79: Invoice JB6R9FXL-0001 | J79: 9411.59 | K79: usd | L79: =Data[[#This Row],[Fees]]/Data[[#This Row],[Converted Amount]] -> 0.00085001578 | M79: 9411.59 | N79: 8 | O79: 9403.59 | P79: usd | Q79: Buckley Scott | R79: cEi_gGlwZp7av8XGnS | S79: â stephenfuller@hotmail.com | T79: Brent Allen
C80: =IFERROR(IF(ISNUMBER(FIND("Invoicing",Data[[#This Row],[Description]])),DATEVALUE(MID(Data[[#This Row],[Description]], FIND("(",Data[[#This Row],[Description]])+1, FIND(")",Data[[#This Row],[Description]]) - FIND("(", Data[[#This Row],[Description]]) - 1)),""), "") | D80: Clean June 2025 - Stripe data upload.xlsx | E80: Stripe data Jun 17 2025 | F80: Charge | G80: ch_3RYpyIKYhcjsD9Cb0rqsxMNN | H80: 45821 | I80: Invoice ECB53460-0004 | J80: 105 | K80: usd | L80: =Data[[#This Row],[Fees]]/Data[[#This Row],[Converted Amount]] -> 0.031904762 | M80: 105 | N80: 3.35 | O80: 101.65 | P80: usd | Q80: 2508-1000 Riddle Kendra 01 | R80: vJD_VaOkUdXDi56GBZ | S80: julie60@yahoo.com | T80: Kendra Riddle
C81: =IFERROR(IF(ISNUMBER(FIND("Invoicing",Data[[#This Row],[Description]])),DATEVALUE(MID(Data[[#This Row],[Description]], FIND("(",Data[[#This Row],[Description]])+1, FIND(")",Data[[#This Row],[Description]]) - FIND("(", Data[[#This Row],[Description]]) - 1)),""), "") | D81: Clean June 2025 - Stripe data upload.xlsx | E81: Stripe data Jun 17 2025 | F81: Charge | G81: ch_3RZ6AnKYhcjsD9Cb0MbRhN9a | H81: 45821 | I81: Invoice DEE091EA-0006 | J81: 195 | K81: usd | L81: =Data[[#This Row],[Fees]]/Data[[#This Row],[Converted Amount]] -> 0.030564103 | M81: 195 | N81: 5.96 | O81: 189.04 | P81: usd | Q81: 2506-1500 Clark Pam 05 | R81: LsW_KmrjvQm9a9efR1 | S81: haledavid@yahoo.com | T81: Pam Clark
C82: =IFERROR(IF(ISNUMBER(FIND("Invoicing",Data[[#This Row],[Description]])),DATEVALUE(MID(Data[[#This Row],[Description]], FIND("(",Data[[#This Row],[Description]])+1, FIND(")",Data[[#This Row],[Description]]) - FIND("(", Data[[#This Row],[Description]]) - 1)),""), "") -> 45820 | D82: Clean June 2025 - Stripe data upload.xlsx | E82: Stripe data Jun 17 2025 | F82: Stripe Fee | G82: finvp_1RZLt6KYhcjsD9CbdIRCUi0x | H82: 45821 | I82: Invoicing (2025-06-12): adjustment to Invoicing Plus | J82: -138.15 | K82: usd | L82: =Data[[#This Row],[Fees]]/Data[[#This Row],[Converted Amount]] -> 0 | M82: -138.15 | N82: 0 | O82: -138.15 | P82: usd
C83: =IFERROR(IF(ISNUMBER(FIND("Invoicing",Data[[#This Row],[Description]])),DATEVALUE(MID(Data[[#This Row],[Description]], FIND("(",Data[[#This Row],[Description]])+1, FIND(")",Data[[#This Row],[Description]]) - FIND("(", Data[[#This Row],[Description]]) - 1)),""), "") -> 45821 | D83: Clean June 2025 - Stripe data upload.xlsx | E83: Stripe data Jun 17 2025 | F83: Stripe Fee | G83: finvp_1RZRbPKYhcjsD9Cb2WVibhol | H83: 45821 | I83: Invoicing (2025-06-13): Invoicing Plus | J83: -0.53 | K83: usd | L83: =Data[[#This Row],[Fees]]/Data[[#This Row],[Converted Amount]] -> 0 | M83: -0.53 | N83: 0 | O83: -0.53 | P83: usd
C84: =IFERROR(IF(ISNUMBER(FIND("Invoicing",Data[[#This Row],[Description]])),DATEVALUE(MID(Data[[#This Row],[Description]], FIND("(",Data[[#This Row],[Description]])+1, FIND(")",Data[[#This Row],[Description]]) - FIND("(", Data[[#This Row],[Description]]) - 1)),""), "") -> 45821 | D84: Clean June 2025 - Stripe data upload.xlsx | E84: Stripe data Jun 17 2025 | F84: Stripe Fee | G84: finvp_1RZcerKYhcjsD9CbId29Mz8n | H84: 45821 | I84: Invoicing (2025-06-13): adjustment to Invoicing Plus | J84: -0.98 | K84: usd | L84: =Data[[#This Row],[Fees]]/Data[[#This Row],[Converted Amount]] -> 0 | M84: -0.98 | N84: 0 | O84: -0.98 | P84: usd
C85: =IFERROR(IF(ISNUMBER(FIND("Invoicing",Data[[#This Row],[Description]])),DATEVALUE(MID(Data[[#This Row],[Description]], FIND("(",Data[[#This Row],[Description]])+1, FIND(")",Data[[#This Row],[Description]]) - FIND("(", Data[[#This Row],[Description]]) - 1)),""), "") -> 45821 | D85: Clean June 2025 - Stripe data upload.xlsx | E85: Stripe data Jun 17 2025 | F85: Stripe Fee | G85: finvp_1RZhcLKYhcjsD9Cbo92P220i | H85: 45822 | I85: Invoicing (2025-06-13): adjustment to Invoicing Plus | J85: -47.06 | K85: usd | L85: =Data[[#This Row],[Fees]]/Data[[#This Row],[Converted Amount]] -> 0 | M85: -47.06 | N85: 0 | O85: -47.06 | P85: usd
C86: =IFERROR(IF(ISNUMBER(FIND("Invoicing",Data[[#This Row],[Description]])),DATEVALUE(MID(Data[[#This Row],[Description]], FIND("(",Data[[#This Row],[Description]])+1, FIND(")",Data[[#This Row],[Description]]) - FIND("(", Data[[#This Row],[Description]]) - 1)),""), "") | D86: Clean June 2025 - Stripe data upload.xlsx | E86: Stripe data Jun 24 2025 | F86: Charge | G86: ch_3Ra9UiKYhcjsD9Cb1bdZorjn | H86: 45823 | I86: Invoice KJCGFYOY-0003 | J86: 380 | K86: usd | L86: =Data[[#This Row],[Fees]]/Data[[#This Row],[Converted Amount]] -> 0.029789474 | M86: 380 | N86: 11.32 | O86: 368.68 | P86: usd | Q86: 2506-0801 Cannon Michael 01 | R86: NZA_cyR8hGTmBONpIL | S86: mholmes@hotmail.com | T86: Danny Patrick
C87: =IFERROR(IF(ISNUMBER(FIND("Invoicing",Data[[#This Row],[Description]])),DATEVALUE(MID(Data[[#This Row],[Description]], FIND("(",Data[[#This Row],[Description]])+1, FIND(")",Data[[#This Row],[Description]]) - FIND("(", Data[[#This Row],[Description]]) - 1)),""), "") | D87: Clean June 2025 - Stripe data upload.xlsx | E87: Stripe data Jun 24 2025 | F87: Charge | G87: ch_3RaDbMKYhcjsD9Cb1K6gc7VM | H87: 45823 | I87: Invoice WHTIHLKD-0001 | J87: 15000 | K87: usd | L87: =Data[[#This Row],[Fees]]/Data[[#This Row],[Converted Amount]] -> 0.03402 | M87: 15000 | N87: 510.3 | O87: 14489.7 | P87: usd | Q87: 2609-0700 Vargas Maria 02 | R87: rtK_PoTeIKLvaiApV9 | S87: hboone@hotmail.com | T87: Gabriela Peck
C88: =IFERROR(IF(ISNUMBER(FIND("Invoicing",Data[[#This Row],[Description]])),DATEVALUE(MID(Data[[#This Row],[Description]], FIND("(",Data[[#This Row],[Description]])+1, FIND(")",Data[[#This Row],[Description]]) - FIND("(", Data[[#This Row],[Description]]) - 1)),""), "") | D88: Clean June 2025 - Stripe data upload.xlsx | E88: Stripe data Jun 24 2025 | F88: Charge | G88: ch_3RYpl4KYhcjsD9Cb0sg9uFQj | H88: 45823 | I88: Invoice C34E5031-0003 | J88: 105 | K88: usd | L88: =Data[[#This Row],[Fees]]/Data[[#This Row],[Converted Amount]] -> 0.031904762 | M88: 105 | N88: 3.35 | O88: 101.65 | P88: usd | Q88: 2508-1001 Riddle Christine 01 | R88: EwH_p2sr4cSjRi1B0k | S88: josephjaime@hotmail.com | T88: Gabriela & Jacqueline Morse
C89: =IFERROR(IF(ISNUMBER(FIND("Invoicing",Data[[#This Row],[Description]])),DATEVALUE(MID(Data[[#This Row],[Description]], FIND("(",Data[[#This Row],[Description]])+1, FIND(")",Data[[#This Row],[Description]]) - FIND("(", Data[[#This Row],[Description]]) - 1)),""), "") | D89: Clean June 2025 - Stripe data upload.xlsx | E89: Stripe data Jun 24 2025 | F89: Charge | G89: ch_3RZXf6KYhcjsD9Cb1gER7GBK | H89: 45823 | I89: Invoice 132BF3E5-0009 | J89: 19000 | K89: usd | L89: =Data[[#This Row],[Fees]]/Data[[#This Row],[Converted Amount]] -> 0.029015789 | M89: 19000 | N89: 551.3 | O89: 18448.7 | P89: usd | Q89: 2603-0200 Garcia Joseph 08 | R89: aBQ_WC2LqRCH5mvEUQ | S89: fwilson@hotmail.com | T89: Patricia Gonzales
C90: =IFERROR(IF(ISNUMBER(FIND("Invoicing",Data[[#This Row],[Description]])),DATEVALUE(MID(Data[[#This Row],[Description]], FIND("(",Data[[#This Row],[Description]])+1, FIND(")",Data[[#This Row],[Description]]) - FIND("(", Data[[#This Row],[Description]]) - 1)),""), "") | D90: Clean June 2025 - Stripe data upload.xlsx | E90: Stripe data Jun 24 2025 | F90: Charge | G90: ch_3RZXiEKYhcjsD9Cb1oLKIkmN | H90: 45823 | I90: Invoice 132BF3E5-0010 | J90: 8920 | K90: usd | L90: =Data[[#This Row],[Fees]]/Data[[#This Row],[Converted Amount]] -> 0.029033632 | M90: 8920 | N90: 258.98 | O90: 8661.02 | P90: usd | Q90: 2603-0200 Garcia Joseph 08 | R90: aBQ_WC2LqRCH5mvEUQ | S90: fwilson@hotmail.com | T90: Patricia Gonzales
